BEGIN:VCALENDAR
VERSION:2.0
PRODID:-//ChamberMaster//Event Calendar 2.0//EN
METHOD:PUBLISH
X-PUBLISHED-TTL:P3D
REFRESH-INTERVAL:P3D
CALSCALE:GREGORIAN
BEGIN:VEVENT
DTSTART:20160211T210000Z
DTEND:20160211T230000Z
X-MICROSOFT-CDO-ALLDAYEVENT:FALSE
SUMMARY:CASA Meet and Greet
DESCRIPTION:Everyone is welcome to come for refreshments\, to learn how you and CASA (Court Appointed Special Advocate) can help dependent children and to meet Enotah CASA's staff and Board members. There will be a meet and greet reception. Our volunteers are trained to determine and advocate for what is in the best interest of abused and neglected children who have been removed from their homes by the Department of Family and Children's Services. The goal of this non-profit is to see that a child gets a safe and permanent home as soon as possible. In the last year\, 44 CASAs have advocated for 205 children in the Enotah Circuit. The CASA program not only works for children\, but saves the counties thousands of dollars with the volunteer hours they put in. If you are interested in learning about volunteering for CASA\, call or visit our website.
X-ALT-DESC;FMTTYPE=text/html:Everyone is welcome to come for refreshments\, to learn how you and CASA (Court Appointed Special Advocate) can help dependent children and to meet Enotah CASA&#39\;s staff and Board members. There will be a meet and greet reception. Our volunteers are trained to determine and advocate for what is in the best interest of abused and neglected children who have been removed from their homes by the Department of Family and Children&#39\;s Services. The goal of this non-profit is to see that a child gets a safe and permanent home as soon as possible. In the last year\, 44 CASAs have advocated for 205 children in the Enotah Circuit. The CASA program not only works for children\, but saves the counties thousands of dollars with the volunteer hours they put in. If you are interested in learning about volunteering for CASA\, call or visit our website.
LOCATION:McConnell Baptist Church's Family Life Center in Room 241 in Hiawassee.
UID:e.256.48311
SEQUENCE:3
DTSTAMP:20260421T055717Z
URL:https://members.visitblairsvillega.com/events/details/casa-meet-and-greet-02-11-2016-48311
END:VEVENT

END:VCALENDAR
