BEGIN:VCALENDAR
VERSION:2.0
PRODID:-//ChamberMaster//Event Calendar 2.0//EN
METHOD:PUBLISH
X-PUBLISHED-TTL:P3D
REFRESH-INTERVAL:P3D
CALSCALE:GREGORIAN
BEGIN:VEVENT
DTSTART:20140204T170000Z
DTEND:20140204T170000Z
X-MICROSOFT-CDO-ALLDAYEVENT:FALSE
SUMMARY:CASA Volunteer Classes
DESCRIPTION:Enotah CASA is beginning a new volunteer certification class and we need you! CASA Volunteers served 185 abused and neglected children in 2013 and 2014 is looking busier than ever. At the present time there are 10 children in the Enotah Judicial Circuit who still need a CASA volunteer. \n\nOur volunteer certification class will begin on February 4 at the First Presbyterian Church.\n\nClasses will be held on Tuesdays and Thursday from 1 - 4 PM for a total of 5 weeks.\n\nIf you would like additional information please contact us at 706-864-0300 or email to dyann@enotahcasa.org.\n\nIf you have been thinking of becoming a CASA volunteer\, this is your opportunity! We look forward to seeing you!
X-ALT-DESC;FMTTYPE=text/html:Enotah CASA is beginning a new volunteer certification class and we need you! CASA Volunteers served 185 abused and neglected children in 2013 and 2014 is looking busier than ever. At the present time there are 10 children in the Enotah Judicial Circuit who still need a CASA volunteer.&nbsp\;<br />\nOur volunteer certification class will begin on February 4 at the First Presbyterian Church.<br />\nClasses will be held on <strong>Tuesdays and Thursday from 1 - 4 PM for a total of 5 weeks</strong>.<br />\nIf you would like additional information please contact us at 706-864-0300 or email to dyann@enotahcasa.org.<br />\nIf you have been thinking of becoming a CASA volunteer\, this is your opportunity! We look forward to seeing you!<br type="_moz" />\n
LOCATION:First Presbyterian Church Cleveland\, GA
UID:e.256.22395
SEQUENCE:3
DTSTAMP:20260424T164337Z
URL:https://members.visitblairsvillega.com/events/details/casa-volunteer-classes-02-04-2014-22395
END:VEVENT

END:VCALENDAR
