BEGIN:VCALENDAR
VERSION:2.0
PRODID:-//ChamberMaster//Event Calendar 2.0//EN
METHOD:PUBLISH
X-PUBLISHED-TTL:P3D
REFRESH-INTERVAL:P3D
CALSCALE:GREGORIAN
BEGIN:VEVENT
DTSTART:20150113T160000Z
DTEND:20150114T010000Z
X-MICROSOFT-CDO-ALLDAYEVENT:FALSE
SUMMARY:Cast Off Your Winter Blues for S.A.F.E.
DESCRIPTION:Join American Catch Seafood Exchange and Premier Designs Jewelry by Alysia Hargus for an Opportunity for Great Food\, Good Fellowship and Gorgeous Jewelry?Benefiting S.A.F.E. (Support in Abusive Family Emergencies). A portion of dinner and jewelry sales will be donated to S.A.F.E. to continue providing vital support to families in crisis.
X-ALT-DESC;FMTTYPE=text/html:Join American Catch Seafood Exchange and Premier Designs Jewelry by Alysia Hargus for an Opportunity for Great Food\, Good Fellowship and Gorgeous Jewelry?Benefiting S.A.F.E. (Support in Abusive Family Emergencies). A portion of dinner and jewelry sales will be donated to S.A.F.E. to continue providing vital support to families in crisis.
LOCATION:American Catch Seafood Exchange 94F Town Square Blairsville\, GA 30512
UID:e.256.33496
SEQUENCE:3
DTSTAMP:20260424T003354Z
URL:https://members.visitblairsvillega.com/events/details/cast-off-your-winter-blues-for-s-a-f-e-01-13-2015-33496
END:VEVENT

END:VCALENDAR
