BEGIN:VCALENDAR
VERSION:2.0
PRODID:-//ChamberMaster//Event Calendar 2.0//EN
METHOD:PUBLISH
X-PUBLISHED-TTL:P3D
REFRESH-INTERVAL:P3D
CALSCALE:GREGORIAN
BEGIN:VEVENT
DTSTART:20171026T230000Z
DTEND:20171027T023000Z
X-MICROSOFT-CDO-ALLDAYEVENT:FALSE
SUMMARY:Casting Crowns in Concert at the Georgia Mountain Fairgrounds
DESCRIPTION:Casting Crowns will take stage at the Anderson Music Hall in Hiawassee\, GA for a great night of entertainment for the whole family.
X-ALT-DESC;FMTTYPE=text/html:Casting Crowns will take stage at the Anderson Music Hall in Hiawassee\, GA for a great night of entertainment for the whole family.
LOCATION:Georgia Mountain Fairgrounds 1311 Music Hall Road - Hwy. 76 W Hiawassee\, GA 30546
UID:e.256.76173
SEQUENCE:3
DTSTAMP:20260419T180003Z
URL:https://members.visitblairsvillega.com/events/details/casting-crowns-in-concert-at-the-georgia-mountain-fairgrounds-76173
END:VEVENT

END:VCALENDAR
