BEGIN:VCALENDAR
VERSION:2.0
PRODID:-//ChamberMaster//Event Calendar 2.0//EN
METHOD:PUBLISH
X-PUBLISHED-TTL:P3D
REFRESH-INTERVAL:P3D
CALSCALE:GREGORIAN
BEGIN:VEVENT
DTSTART:20161126T160000Z
DTEND:20161126T210000Z
X-MICROSOFT-CDO-ALLDAYEVENT:FALSE
SUMMARY:Cats Meow Holiday Fundraiser
DESCRIPTION:Come on out to the Lucky Cat Thrift Store to save some money and help a lucky cat be fixed.  Awesome special 50% off holiday bargains.  This fabulous event will make you Jingle Rock!  All proceeds support the Whiskers Project spay/neuter feline program.
X-ALT-DESC;FMTTYPE=text/html:Come on out to the Lucky Cat Thrift Store to save some money and help a lucky cat be fixed.&nbsp\; Awesome special 50% off holiday&nbsp\;bargains.&nbsp\; This fabulous event will make you Jingle Rock!&nbsp\; All proceeds support the Whiskers Project spay/neuter feline program.
LOCATION:Lucky Cat Thrift Store 5933 Hwy. 515\, East Blairsville\, GA 30512
UID:e.256.59689
SEQUENCE:3
DTSTAMP:20260420T112924Z
URL:https://members.visitblairsvillega.com/events/details/cats-meow-holiday-fundraiser-11-26-2016-59689
END:VEVENT

END:VCALENDAR
