BEGIN:VCALENDAR
VERSION:2.0
PRODID:-//ChamberMaster//Event Calendar 2.0//EN
METHOD:PUBLISH
X-PUBLISHED-TTL:P3D
REFRESH-INTERVAL:P3D
CALSCALE:GREGORIAN
BEGIN:VEVENT
DTSTART:20160607T210000Z
DTEND:20160608T000000Z
X-MICROSOFT-CDO-ALLDAYEVENT:FALSE
SUMMARY:Cave Quest Vacation Bible School
DESCRIPTION:We will start each night with dinner at 5pm in the fellowship hall and then proceed to our opening music and skits in the MAC. Then on to games\, classes\, music\, snacks\, crafts and live Bible drama. We will be spreading God's light into all the dark corners\, and having lots of fun while we do that!
X-ALT-DESC;FMTTYPE=text/html:We will start each night with dinner at 5pm in the fellowship hall and then proceed to our opening music and skits in the MAC. Then on to games\, classes\, music\, snacks\, crafts and live Bible drama. We will be spreading God's light into all the dark corners\, and having lots of fun while we do that!
LOCATION:First United Methodist Church of Union County across from Meeks Park Blairsville\, GA
UID:e.256.51216
SEQUENCE:3
DTSTAMP:20260420T222542Z
URL:https://members.visitblairsvillega.com/events/details/cave-quest-vacation-bible-school-06-07-2016-51216
END:VEVENT

END:VCALENDAR
