BEGIN:VCALENDAR
VERSION:2.0
PRODID:-//ChamberMaster//Event Calendar 2.0//EN
METHOD:PUBLISH
X-PUBLISHED-TTL:P3D
REFRESH-INTERVAL:P3D
CALSCALE:GREGORIAN
BEGIN:VEVENT
DTSTART:20170101T020000Z
DTEND:20161231T175500Z
X-MICROSOFT-CDO-ALLDAYEVENT:FALSE
SUMMARY:CCV New Years Eve Bash
DESCRIPTION:Our annual New Years Eve Bash is a great way to ring on the new year! See our website soon for the announcement of this years theme! Reservations Only. Includes a 4 course meal\, open bar\, and live music!
X-ALT-DESC;FMTTYPE=text/html:Our annual New Years Eve Bash is a great way to ring on the new year! See our website soon for the announcement of this years theme! Reservations Only. Includes a 4 course meal\, open bar\, and live music!
LOCATION:Crane Creek Vineyards 916 Crane Creek Road Young Harris\, GA 30582
UID:e.256.51261
SEQUENCE:3
DTSTAMP:20260420T093523Z
URL:https://members.visitblairsvillega.com/events/details/ccv-new-years-eve-bash-12-31-2016-51261
END:VEVENT

END:VCALENDAR
