BEGIN:VCALENDAR
VERSION:2.0
PRODID:-//ChamberMaster//Event Calendar 2.0//EN
METHOD:PUBLISH
X-PUBLISHED-TTL:P3D
REFRESH-INTERVAL:P3D
CALSCALE:GREGORIAN
BEGIN:VEVENT
DTSTART:20170101T020000Z
DTEND:20170101T060000Z
X-MICROSOFT-CDO-ALLDAYEVENT:FALSE
SUMMARY:CCV New Years Eve Party
DESCRIPTION:New Years Eve Party\n\nSaturday December 31\, 2016\n\nA party you won't want to miss! Ring in the new year with CCV staff. Theme to be announced. \n\n*$75.00 per guest (7% sales tax and gratuity to be added)\n\nIncludes: 5 course meal\, open bar and live music. Reservations required. Please call 706-379-1236 or email info@cranecreekvineyards.com to reserve a spot. \n\nSee website for full menu and theme!
X-ALT-DESC;FMTTYPE=text/html:<strong><u>New Years Eve Party</u></strong><br />\nSaturday December 31\, 2016<br />\nA party you won&#39\;t want to miss! Ring in the new year with CCV staff. Theme to be announced.&nbsp\;<br />\n*$75.00 per guest (7% sales tax and gratuity to be added)<br />\nIncludes: 5 course meal\, open bar and live music. Reservations required. Please call <a href="tel:706-379-1246">706-379-12</a>36 or email info@cranecreekvineyards.com to reserve a spot.&nbsp\;<br />\nSee website for full menu and theme!<br />\n&nbsp\;
LOCATION:Crane Creek Vineyards Holly Hill Event Center 916 Crane Creek Road Young Harris\, Ga 30582
UID:e.256.48102
SEQUENCE:3
DTSTAMP:20260420T075528Z
URL:https://members.visitblairsvillega.com/events/details/ccv-new-years-eve-party-12-31-2016-48102
END:VEVENT

END:VCALENDAR
