BEGIN:VCALENDAR
VERSION:2.0
PRODID:-//ChamberMaster//Event Calendar 2.0//EN
METHOD:PUBLISH
X-PUBLISHED-TTL:P3D
REFRESH-INTERVAL:P3D
CALSCALE:GREGORIAN
BEGIN:VEVENT
DTSTART:20160213T230000Z
DTEND:20160214T020000Z
X-MICROSOFT-CDO-ALLDAYEVENT:FALSE
SUMMARY:CCV Valentine's Wine Dinner
DESCRIPTION:Valentine's Wine Dinner\n\nSaturday February 13\, 2016 6:00pm\n\nBring your sweetheart or a group of friends and dine at Crane Creek this Valentine's Day weekend!\n\n*$75.00 per guest (7% sales tax and gratuity to be added)\n\nIncludes: Dinner\, wine and live music. Reservations required. Please call 706-379-1236 or email info@cranecreekvineyards.com to reserve a spot. \n\nSee website for full menu.
X-ALT-DESC;FMTTYPE=text/html:<strong><u>Valentine&#39\;s Wine Dinner</u></strong><br />\nSaturday February 13\, 2016 6:00pm<br />\nBring your sweetheart or a group of friends and dine at Crane Creek this Valentine&#39\;s Day weekend!<br />\n*$75.00 per guest (7% sales tax and gratuity to be added)<br />\nIncludes: Dinner\, wine and live music. Reservations required. Please call <a href="tel:706-379-1246">706-379-12</a>36 or&nbsp\;email info@cranecreekvineyards.com to reserve a spot.&nbsp\;<br />\nSee website for full menu.&nbsp\;<br />\n&nbsp\;
LOCATION:Crane Creek Vineyards Holly Hill Event Center 916 Crane Creek Road Young Harris\, Ga 30582
UID:e.256.48096
SEQUENCE:3
DTSTAMP:20260421T055600Z
URL:https://members.visitblairsvillega.com/events/details/ccv-valentine-s-wine-dinner-02-13-2016-48096
END:VEVENT

END:VCALENDAR
