BEGIN:VCALENDAR
VERSION:2.0
PRODID:-//ChamberMaster//Event Calendar 2.0//EN
METHOD:PUBLISH
X-PUBLISHED-TTL:P3D
REFRESH-INTERVAL:P3D
CALSCALE:GREGORIAN
BEGIN:VEVENT
DTSTART:20140613T220000Z
DTEND:20140614T010000Z
X-MICROSOFT-CDO-ALLDAYEVENT:FALSE
SUMMARY:CEILIDH-on-the-SQUARE
DESCRIPTION:Blairsville Scottish Festival & Highland Games Presents "CEILIDH-on-the-SQUARE"\n\n\n\nFREE CONCERT and COMEDY \n\n6 - 9 pm on the Seasons Inn Plaza - CONCERT featuring Celtic trio\, The Blarney Girls Also\, Scottish humorist\, Bob Valentine\, will be appearing as well as guitarist\, Colin Grant-Adams Royal Scottish Country Dancers\n\n7 - 8:00 pm in the Historic Courthouse courtroom Colin Grant- Adams Comedian\, Bob Valentine \n\n\n\nDowntown restaurants will be open for your dining pleasure\, so bring your FAMILY and come out for a good meal\, good entertainment\, and a good time !!! Scottish apparel or casual clothing\, your choice. Presented in cooperation with the Downtown Development Authority and the Union County Historical Society.
X-ALT-DESC;FMTTYPE=text/html:<em><strong>Blairsville Scottish Festival &amp\; Highland Games Presents &quot\;</strong></em><strong>CEILIDH-on-the-SQUARE&quot\;</strong><br />\n<br />\nFREE CONCERT and COMEDY&nbsp\;<br />\n6&nbsp\;- 9 pm on the Seasons Inn Plaza - CONCERT featuring Celtic trio\, The Blarney Girls Also\, Scottish humorist\, Bob Valentine\, will be appearing as well as guitarist\, Colin Grant-Adams Royal Scottish Country Dancers<br />\n7&nbsp\;- 8:00 pm in the Historic Courthouse courtroom Colin Grant- Adams Comedian\, Bob Valentine&nbsp\;<br />\n<br />\nDowntown restaurants will be open for your dining pleasure\, so bring your FAMILY and come out for a good meal\, good entertainment\, and a good time !!! Scottish apparel or casual clothing\, your choice. Presented in cooperation with the Downtown Development Authority and the Union County Historical Society.
LOCATION:Downtown on the Square Blairsville\, GA
UID:e.256.24471
SEQUENCE:3
DTSTAMP:20260424T120252Z
URL:https://members.visitblairsvillega.com/events/details/ceilidh-on-the-square-06-13-2014-24471
END:VEVENT

END:VCALENDAR
