BEGIN:VCALENDAR
VERSION:2.0
PRODID:-//ChamberMaster//Event Calendar 2.0//EN
METHOD:PUBLISH
X-PUBLISHED-TTL:P3D
REFRESH-INTERVAL:P3D
CALSCALE:GREGORIAN
BEGIN:VEVENT
DTSTART:20140706T000000Z
DTEND:20140706T020000Z
X-MICROSOFT-CDO-ALLDAYEVENT:FALSE
SUMMARY:Celebrate America Rodeo
DESCRIPTION:What better way to celebrate America than by watching America's original sport .... RODEO! Check out cowboys and cowgirls from all over the Southeast compete for their share of the prize money! You also don't want to miss the WILD COW MILKING CONTEST featuring 3 teams of 3 competing to see who can milk a wild cow the fastest! Lots of great things for the kids too including bounce houses\, calf scramble & more.
X-ALT-DESC;FMTTYPE=text/html:What better way to celebrate America than by watching America&#39\;s original sport .... RODEO! Check out cowboys and cowgirls from all over the Southeast compete for their share of the prize money! You also don&#39\;t want to miss the WILD COW MILKING CONTEST featuring 3 teams of 3 competing to see who can milk a wild cow the fastest! Lots of great things for the kids too including bounce houses\, calf scramble &amp\; more.
LOCATION:4637 Downings Creek Rd Hayesviles\, NC
UID:e.256.24808
SEQUENCE:3
DTSTAMP:20260424T091938Z
URL:https://members.visitblairsvillega.com/events/details/celebrate-america-rodeo-07-05-2014-24808
END:VEVENT

END:VCALENDAR
