BEGIN:VCALENDAR
VERSION:2.0
PRODID:-//ChamberMaster//Event Calendar 2.0//EN
METHOD:PUBLISH
X-PUBLISHED-TTL:P3D
REFRESH-INTERVAL:P3D
CALSCALE:GREGORIAN
BEGIN:VEVENT
DTSTART:20171129T203000Z
DTEND:20171129T233000Z
X-MICROSOFT-CDO-ALLDAYEVENT:FALSE
SUMMARY:Celebrate Beauty Open House - Office of William Frazier MD
DESCRIPTION:Blairsville Plastic Surgeon William H. Frazier\, MD invites everyone in the tri-state area to attend the ribbon cutting and open house celebration of his practice\, located behind Union General Hospital\, Blairsville at 123 Weaver Road\, Suite B.   Ribbon cutting ceremony will kick off the open house on Wednesday\, November 29 at 3:30 pm.  There will be food\, prizes\, free give aways and lots of information about skin health and beauty.   An authorized user of BOTOX and Juvederm fillers\, Dr. Frazier and his aesthetician Stacey Meens will be happy to discuss the benefits of treatments for frown lines\, migraine headaches and general aging.  The practice also carries jane iredale mineral makeup and the newest line of skin health products from Zein Obagi.  \n\nAfter earning two board certifications in General surgery and Plastic surgery\,  Dr. Frazier has over 30 years of experience in plastic surgery.  Today he especially enjoys treatments to improve health and well being\, specializing in skin cancer removal/repair\, hand surgery\, breast reconstruction after cancer\, eyelid surgery\, and liposuction/skin removal after weight loss to name just a few treatments.  Perhaps due to his time as Associate Professor of Plastic Surgery at Yale University School of Medicine\, Dr. Frazier still enjoys spending time with patients to teach and discuss their general well being and devise together the best plans for better health and beauty.
X-ALT-DESC;FMTTYPE=text/html:<strong>Blairsville Plastic Surgeon William H. Frazier\, MD i</strong>nvites everyone in the tri-state area to attend the ribbon cutting and open house celebration of his practice\, located behind Union General Hospital\, Blairsville at 123 Weaver Road\, Suite B. &nbsp\; Ribbon cutting ceremony will kick off the open house on Wednesday\, November 29 at 3:30 pm. &nbsp\;There will be food\, prizes\, free give aways and lots of information about skin health and beauty. &nbsp\; An authorized user of BOTOX and Juvederm fillers\, Dr. Frazier and his aesthetician Stacey Meens will be happy to discuss the benefits of treatments for frown lines\, migraine headaches and general aging. &nbsp\;The practice also carries&nbsp\;<em>jane iredale</em> mineral makeup and the newest line of skin health products from Zein Obagi. &nbsp\;<br />\nAfter earning two board certifications in General surgery and Plastic surgery\,&nbsp\;&nbsp\;Dr. Frazier has over 30 years of experience in plastic surgery. &nbsp\;Today he especially enjoys treatments to improve health and well being\, specializing in skin cancer removal/repair\, hand surgery\, breast reconstruction after cancer\, eyelid surgery\, and liposuction/skin removal after weight loss to name just a few treatments. &nbsp\;Perhaps due to his time as Associate Professor of Plastic Surgery at Yale University School of Medicine\, Dr. Frazier still enjoys spending time with patients to teach and discuss their general well being and devise together the best plans for better health and beauty. &nbsp\; &nbsp\;
LOCATION:123 Weaver Road\, Suite B. Blairsville GA Behind Union General Hospital
UID:e.256.77029
SEQUENCE:3
DTSTAMP:20260419T160619Z
URL:https://members.visitblairsvillega.com/events/details/celebrate-beauty-open-house-office-of-william-frazier-md-77029
END:VEVENT

END:VCALENDAR
