BEGIN:VCALENDAR
VERSION:2.0
PRODID:-//ChamberMaster//Event Calendar 2.0//EN
METHOD:PUBLISH
X-PUBLISHED-TTL:P3D
REFRESH-INTERVAL:P3D
CALSCALE:GREGORIAN
BEGIN:VEVENT
DTSTART:20151003T130000Z
DTEND:20151003T180000Z
X-MICROSOFT-CDO-ALLDAYEVENT:FALSE
SUMMARY:Celebrate Fall at Coosa United Methodist Church's Fall Sale
DESCRIPTION:Celebrate Fall at Coosa United Methodist Church's famous annual Craft\, BBQ\,Bake\, and Silent Auction.\n\nCome early as the unique handcrafted items and yummy baked goods disappear quickly.   BBQ pork plates wil be available during that time for you to "dine in" or "take out".    Come enjoy the live music as you visit this truly community event.
X-ALT-DESC;FMTTYPE=text/html:<span style="font-size: 9pt\;"><span style="font-family: helvetica\,sans-serif\;"><span style="color: black\;">Celebrate Fall at Coosa United Methodist Church&#39\;s famous annual Craft\, BBQ\,Bake\, and Silent Auction.</span></span></span><br />\n<span style="font-size: 9pt\;"><span style="font-family: helvetica\,sans-serif\;"><span style="color: black\;">Come early as the unique handcrafted items and yummy baked goods disappear quickly.&nbsp\;&nbsp\; </span></span></span><span style="font-size: 9pt\;"><span style="font-family: helvetica\,sans-serif\;"><span style="color: black\;">BBQ pork plates wil be available during that time for you to &quot\;dine in&quot\; or &quot\;take out&quot\;.&nbsp\;&nbsp\;&nbsp\; </span></span></span><span style="font-size: 9pt\;"><span style="font-family: helvetica\,sans-serif\;"><span style="color: black\;">Come enjoy the live music as you visit this truly community event.</span></span></span><br />\n&nbsp\;
LOCATION:See you at the Fall Sale at Coosa UMC\, 767 Mulky GAp Road\, Blairsville\, GA
UID:e.256.44190
SEQUENCE:3
DTSTAMP:20260423T104029Z
URL:https://members.visitblairsvillega.com/events/details/celebrate-fall-at-coosa-united-methodist-church-s-fall-sale-10-03-2015-44190
END:VEVENT

END:VCALENDAR
