BEGIN:VCALENDAR
VERSION:2.0
PRODID:-//ChamberMaster//Event Calendar 2.0//EN
METHOD:PUBLISH
X-PUBLISHED-TTL:P3D
REFRESH-INTERVAL:P3D
CALSCALE:GREGORIAN
BEGIN:VEVENT
DTSTART:20161015T200000Z
DTEND:20161016T000000Z
X-MICROSOFT-CDO-ALLDAYEVENT:FALSE
SUMMARY:Celebrating Fall with Nani's Paella Dinner Special
DESCRIPTION:Celebrating Fall with Nani's Paella Dinner Special\n\nTwo Nights Only\n\nSeafood rice with chicken\, pork\, shrimp\, scallops\, mussels\, clams\, crabmeat\, and saffron.  Rated one of the best Paellas  in North Georgia and one of top contenders to Seville Spain.  Treat your friends and family to a special dinner with our Paella\; they will love you for it. \n\nReservations Recommended
X-ALT-DESC;FMTTYPE=text/html:<div style="text-align: center\;"><span style="color: rgb(255\, 140\, 0)\;"><span style="font-size: 16px\;"><strong>Celebrating Fall with Nani&#39\;s Paella Dinner Special<br />\nTwo Nights Only</strong></span></span></div>\n\n<div style="text-align: center\;"><strong>Seafood rice with chicken\,&nbsp\;pork\, shrimp\, scallops\, mussels\, clams\, crabmeat\, and saffron.&nbsp\; Rated one of the best Paellas&nbsp\; in North Georgia and one of top contenders to Seville Spain.&nbsp\; Treat&nbsp\;your friends and family&nbsp\;to a special dinner with our&nbsp\;Paella\;&nbsp\;they will love you for it.&nbsp\;<br />\nReservations Recommended</strong></div>\n
LOCATION:51 D Earnest Street Blairsville\, GA 30512
UID:e.256.59210
SEQUENCE:3
DTSTAMP:20260420T130900Z
URL:https://members.visitblairsvillega.com/events/details/celebrating-fall-with-nani-s-paella-dinner-special-59210
END:VEVENT

END:VCALENDAR
