BEGIN:VCALENDAR
VERSION:2.0
PRODID:-//ChamberMaster//Event Calendar 2.0//EN
METHOD:PUBLISH
X-PUBLISHED-TTL:P3D
REFRESH-INTERVAL:P3D
CALSCALE:GREGORIAN
BEGIN:VEVENT
DTSTART:20140525T140000Z
DTEND:20140525T220000Z
X-MICROSOFT-CDO-ALLDAYEVENT:FALSE
SUMMARY:Celebration of Artisans: SAAG Member Show
DESCRIPTION:Enjoy unforgettable 2D and 3D creations from our very own Southern Appalachian Artist Guild members\, ranging from pottery\, paintings\, photography and more.  Exhibit will be on display inside the Richard Low Evans Gallery. www.southernappalachianartists.org
X-ALT-DESC;FMTTYPE=text/html:<span style="font-size: 12pt\;"><span style="font-family: adobe caslon pro bold\,serif\;">Enjoy unforgettable 2D and 3D creations from our very own Southern Appalachian Artist Guild members\, ranging from pottery\, paintings\, photography and more.&nbsp\; Exhibit will be on display inside&nbsp\;the Richard Low Evans Gallery. www.southernappalachianartists.org </span></span><br />\n&nbsp\;
LOCATION:Blue Ridge Mountains Arts Association (The Art Center) 420 West Main Street Blue Ridge\, GA 30513
UID:e.256.22590
SEQUENCE:3
DTSTAMP:20260424T122410Z
URL:https://members.visitblairsvillega.com/events/details/celebration-of-artisans-saag-member-show-05-25-2014-22590
END:VEVENT

END:VCALENDAR
