BEGIN:VCALENDAR
VERSION:2.0
PRODID:-//ChamberMaster//Event Calendar 2.0//EN
METHOD:PUBLISH
X-PUBLISHED-TTL:P3D
REFRESH-INTERVAL:P3D
CALSCALE:GREGORIAN
BEGIN:VEVENT
DTSTART:20140716T170000Z
DTEND:20140716T200000Z
X-MICROSOFT-CDO-ALLDAYEVENT:FALSE
SUMMARY:Chalk Paint 101
DESCRIPTION:Charmed Accents @ Main Street Shops is hosting an Annie Sloan Chalk Paint class. Fee is $85 and includes refreshments and all supplies for this class.
X-ALT-DESC;FMTTYPE=text/html:Charmed Accents @ Main Street Shops&nbsp\;is hosting an Annie Sloan Chalk Paint class. Fee is $85 and includes refreshments and all supplies for this class.
LOCATION:Charmed Accents @ Main Street Shops
UID:e.256.24748
SEQUENCE:3
DTSTAMP:20260424T091512Z
URL:https://members.visitblairsvillega.com/events/details/chalk-paint-101-07-16-2014-24748
END:VEVENT

END:VCALENDAR
