BEGIN:VCALENDAR
VERSION:2.0
PRODID:-//ChamberMaster//Event Calendar 2.0//EN
METHOD:PUBLISH
X-PUBLISHED-TTL:P3D
REFRESH-INTERVAL:P3D
CALSCALE:GREGORIAN
BEGIN:VEVENT
DTSTART:20140614T140000Z
DTEND:20140614T160000Z
X-MICROSOFT-CDO-ALLDAYEVENT:FALSE
SUMMARY:Chalk Painting
DESCRIPTION:Chalk painting furniture\, with decorative artwork. Bring a small piece of wooden furniture\; chair\, side table\, or a wooden cheese/hatbox will be available to paint. All supplies included\, $40. Snacks provided\, feel free to bring a snack to share.\n\nBring your playful and creative side\, and a friend! This class is meant to be as much fun as instructional and you're encouraged to wear play clothes!
X-ALT-DESC;FMTTYPE=text/html:Chalk painting furniture\, with decorative artwork. Bring a small piece of wooden furniture\; chair\, side table\, or a wooden cheese/hatbox will be available to paint. All supplies included\, $40. Snacks provided\, feel free to bring a snack to share.<br />\n<span style="font-family:calibri\,sans-serif\;"><span style="font-size:11.0pt\;">Bring your playful and creative side\, and a friend! This class is meant to be as much fun as instructional and you&#39\;re encouraged to wear play clothes!</span></span>
LOCATION:Inspire Art Studio 51 Earnest St. Suite C
UID:e.256.24610
SEQUENCE:3
DTSTAMP:20260424T120358Z
URL:https://members.visitblairsvillega.com/events/details/chalk-painting-06-14-2014-24610
END:VEVENT

END:VCALENDAR
