BEGIN:VCALENDAR
VERSION:2.0
PRODID:-//ChamberMaster//Event Calendar 2.0//EN
METHOD:PUBLISH
X-PUBLISHED-TTL:P3D
REFRESH-INTERVAL:P3D
CALSCALE:GREGORIAN
BEGIN:VEVENT
DTSTART:20151215T170000Z
DTEND:20151215T180000Z
X-MICROSOFT-CDO-ALLDAYEVENT:FALSE
SUMMARY:Chamber Board of Directors Meeting
DESCRIPTION:Meeting Announcement\n\n \n\nBlairsville-Union County Chamber of Commerce Board of Directors Meeting\n\n \n\nThe Chamber Board meeting will be held on Tuesday\, December 15th at 12:00pm at Brasstown Valley Resort in Cedar B.\n\n \n\nPlease R.S.V.P. by registering online for this meeting.\n\n \n\nThank you
X-ALT-DESC;FMTTYPE=text/html:<div>&nbsp\;</div>\n\n<div>&nbsp\;</div>\n\n<div><strong><font size="3">Meeting Announcement</font></strong></div>\n\n<div>&nbsp\;</div>\n\n<div><strong><font size="3">Blairsville-Union County Chamber of Commerce Board of Directors Meeting</font></strong></div>\n\n<div>&nbsp\;</div>\n\n<div><font size="3">The Chamber Board meeting will be held on Tuesday\, December 15th&nbsp\;at 12:00pm at Brasstown Valley Resort in Cedar B.</font></div>\n\n<div>&nbsp\;</div>\n\n<div><font size="3">Please R.S.V.P. by registering online for this meeting.</font></div>\n\n<div>&nbsp\;</div>\n\n<div><font size="3">Thank you</font></div>\n
LOCATION:Brasstown Valley Resort
UID:e.256.3737
SEQUENCE:3
DTSTAMP:20260421T074524Z
URL:https://members.visitblairsvillega.com/events/details/chamber-board-of-directors-meeting-12-15-2015-3737
END:VEVENT

END:VCALENDAR
