BEGIN:VCALENDAR
VERSION:2.0
PRODID:-//ChamberMaster//Event Calendar 2.0//EN
METHOD:PUBLISH
X-PUBLISHED-TTL:P3D
REFRESH-INTERVAL:P3D
CALSCALE:GREGORIAN
BEGIN:VEVENT
DTSTART:20140116T223000Z
DTEND:20140116T233000Z
X-MICROSOFT-CDO-ALLDAYEVENT:FALSE
SUMMARY:Chamber Business After Hours
DESCRIPTION:Business After Hours Event!\n\n \n\n Join us Thursday\, January 16th from 5:30pm - 6:30pm\n\nChamber of Commerce\, inside the\n\n Union County Community Center\n\n\n\nWe will be celebrating The Wine Shoppe as\n\n"Business of the Quarter"\n\n\n\nSponsor for the event \n\nEsquire Insurance\n\n\n\nBring your business cards & experience\n\nThe Power of Networking!
X-ALT-DESC;FMTTYPE=text/html:<div style="text-align: center\;"><span style="font-family: arial\;"><strong><strong>Business After Hours Event!</strong></strong></span><br />\n&nbsp\;</div>\n\n<div style="text-align: center\;"><span style="font-family: arial\;"><strong>&nbsp\;Join us Thursday\, January 16th from 5:30pm - 6:30pm<br />\nChamber of Commerce\, inside the<br />\n&nbsp\;Union County Community Center<br />\n<br />\nWe will be celebrating <span style="color: rgb(255\, 0\, 0)\;">The Wine Shoppe as<br />\n&quot\;Business of the Quarter&quot\;</span><br />\n<br />\n<span style="color: rgb(255\, 0\, 0)\;"><strong><em>Sponsor for the event </em></strong><br />\nEsquire Insurance</span><br />\n<br />\nBring your business cards &amp\; experience<br />\nThe Power of Networking</strong><em><strong>!<br />\n&nbsp\;</strong></em></span></div>\n
LOCATION:Blairsville-Union County Chamber of Commerce Union County Community Center 129 Union County Rec Rd Blairsville
UID:e.256.20940
SEQUENCE:3
DTSTAMP:20260424T194158Z
URL:https://members.visitblairsvillega.com/events/details/chamber-business-after-hours-01-16-2014-20940
END:VEVENT

END:VCALENDAR
