BEGIN:VCALENDAR
VERSION:2.0
PRODID:-//ChamberMaster//Event Calendar 2.0//EN
METHOD:PUBLISH
X-PUBLISHED-TTL:P3D
REFRESH-INTERVAL:P3D
CALSCALE:GREGORIAN
BEGIN:VEVENT
DTSTART:20160414T213000Z
DTEND:20160414T230000Z
X-MICROSOFT-CDO-ALLDAYEVENT:FALSE
SUMMARY:Chamber Business After Hours
DESCRIPTION:Blairsville-Union County Chamber of Commerce \n\nwill present Business After Hours celebrating \n\nCabin Coffee\n\nas Business of the Quarter.\n\n\n\nSponsored by:\n\nPark Sterling Bank & Amazing Grace Catering & Events \n\nCatered by: Amazing Grace Catering & Events LLC\n\n \n\nTake advantage of this awesome networking occasion.
X-ALT-DESC;FMTTYPE=text/html:<div>\n<div style="text-align: center\;"><span style="font-size: 14px\;"><span style="color: rgb(51\, 51\, 153)\;"><strong><span style="font-family: Verdana\;">Blairsville-Union County Chamber of Commerce </span></strong></span></span></div>\n\n<div style="text-align: center\;"><span style="font-size: 14px\;"><span style="color: rgb(51\, 51\, 153)\;"><strong><span style="font-family: Verdana\;">will present Business After Hours celebrating&nbsp\;</span></strong></span><br />\n<span style="color: rgb(51\, 51\, 153)\;"><strong><span style="font-family: Verdana\;">Cabin Coffee<br />\nas Business of the Quarter.</span></strong></span></span></div>\n\n<div style="text-align: center\;"><br />\n<span style="font-size: 14px\;"><span style="color: rgb(51\, 51\, 153)\;"><strong><span style="font-family: Verdana\;">Sponsored&nbsp\;by:<br />\nPark Sterling Bank &amp\; Amazing Grace Catering &amp\; Events </span></strong></span></span></div>\n\n<div style="text-align: center\;"><span style="font-size: 14px\;"><strong><font color="#333399" face="Verdana">Catered by: Amazing Grace Catering &amp\; Events LLC</font></strong></span><br />\n&nbsp\;</div>\n\n<div style="text-align: center\;"><span style="font-size: 14px\;"><span style="color: rgb(51\, 51\, 153)\;"><strong><span style="font-family: Verdana\;">Take advantage of this awesome </span></strong></span><span style="color: rgb(51\, 51\, 153)\;"><strong><span style="font-family: Verdana\;">networki</span></strong><span style="font-weight: bold\;"><span style="font-family: Verdana\;">ng occasion.</span></span></span></span></div>\n\n<div style="text-align: center\;">&nbsp\;</div>\n\n<div style="text-align: center\;">&nbsp\;</div>\n</div>\n
LOCATION:Park Sterling Bank\, 458 Hwy 515 East\, Blairsville GA
UID:e.256.50532
SEQUENCE:3
DTSTAMP:20260421T021843Z
URL:https://members.visitblairsvillega.com/events/details/chamber-business-after-hours-04-14-2016-50532
END:VEVENT

END:VCALENDAR
