BEGIN:VCALENDAR
VERSION:2.0
PRODID:-//ChamberMaster//Event Calendar 2.0//EN
METHOD:PUBLISH
X-PUBLISHED-TTL:P3D
REFRESH-INTERVAL:P3D
CALSCALE:GREGORIAN
BEGIN:VEVENT
DTSTART:20170914T213000Z
DTEND:20170914T230000Z
X-MICROSOFT-CDO-ALLDAYEVENT:FALSE
SUMMARY:Chamber Business After Hours
DESCRIPTION:Join us at Crossing Creeks RV Resort & Spa for the next Business After Hours.  This is a FREE networking event for Chamber Members. Bring your business cards  and get ready to have a great time!
X-ALT-DESC;FMTTYPE=text/html:Join us at Crossing Creeks RV Resort &amp\; Spa for the next Business After Hours.&nbsp\; This is a FREE networking event for Chamber Members. Bring your business cards&nbsp\; and get ready to have a great time! &nbsp\;
LOCATION:Crossing Creeks RV Resort & Spa\, Old Blue Ridge Hwy. Blairsville
UID:e.256.75219
SEQUENCE:3
DTSTAMP:20260419T192848Z
URL:https://members.visitblairsvillega.com/events/details/chamber-business-after-hours-09-14-2017-75219
END:VEVENT

END:VCALENDAR
