BEGIN:VCALENDAR
VERSION:2.0
PRODID:-//ChamberMaster//Event Calendar 2.0//EN
METHOD:PUBLISH
X-PUBLISHED-TTL:P3D
REFRESH-INTERVAL:P3D
CALSCALE:GREGORIAN
BEGIN:VEVENT
DTSTART:20170112T223000Z
DTEND:20170113T000000Z
X-MICROSOFT-CDO-ALLDAYEVENT:FALSE
SUMMARY:Chamber Business After Hours
DESCRIPTION:Business After Hours / Business of the Quarter\n\n \n\n Join us  for our first event of the Year!\n\nWe will be celebrating\n\nHabitat for Humanity Towns/Union County as\n\n"Business of the Quarter"\n\n\n\nSponsors for the event\n\n\n\nEnotah Valley Event Center\n\nEpic Catering
X-ALT-DESC;FMTTYPE=text/html:<div style="text-align: center\;">\n<div style="text-align: center\;"><span style="font-size: 16px\;"><span style="font-family: arial\;"><strong><strong>Business After Hours / Business of the Quarter</strong></strong></span><br />\n&nbsp\;</span></div>\n\n<div style="text-align: center\;"><span style="font-size: 16px\;"><span style="font-family: arial\;"><strong>&nbsp\;Join us&nbsp\; for our first event of the Year!<br />\nWe will be celebrating<br />\nHabitat for Humanity Towns/Union County as<br />\n<span style="color: rgb(255\, 0\, 0)\;">&quot\;Business of the Quarter&quot\;</span><br />\n<br />\n<span style="color: rgb(255\, 0\, 0)\;"><strong><em>Sponsors for the event</em></strong></span></strong></span></span>\n\n<div _mce_style="font-size: 10pt\;" style="font-size: 10pt\;">\n<div _mce_style="text-align: center\;" align="center" style="text-align: center\;">\n<div align="center"><strong><span style="font-size: 16px\;"><span style="color: rgb(255\, 0\, 0)\;">Enotah Valley Event Center</span></span><br />\n<font color="#ff0000" size="3">Epic Catering</font></strong></div>\n</div>\n</div>\n</div>\n</div>\n
LOCATION:Enotah Valley Event Center 29 Enotah Valley Lane Blairsville\, GA 30512 (Previously Goose Creek)
UID:e.256.62167
SEQUENCE:3
DTSTAMP:20260420T074833Z
URL:https://members.visitblairsvillega.com/events/details/chamber-business-after-hours-62167
END:VEVENT

END:VCALENDAR
