BEGIN:VCALENDAR
VERSION:2.0
PRODID:-//ChamberMaster//Event Calendar 2.0//EN
METHOD:PUBLISH
X-PUBLISHED-TTL:P3D
REFRESH-INTERVAL:P3D
CALSCALE:GREGORIAN
BEGIN:VEVENT
DTSTART:20170420T213000Z
DTEND:20170420T230000Z
X-MICROSOFT-CDO-ALLDAYEVENT:FALSE
SUMMARY:Chamber Business After Hours
DESCRIPTION:Business After Hours / Business of the Quarter\n\n \n\n Join us  for the next Business After Hours\n\nWe will be celebrating\n\nCorrugated Replacements\n\nas\n\n"Business of the Quarter"\n\n\n\nHosting and Sponsoring the event:\n\n\n\nSouthern Bank and Trust
X-ALT-DESC;FMTTYPE=text/html:<div style="text-align: center\;">\n<div style="text-align: center\;"><span style="font-size: 16px\;"><span style="font-family: arial\;"><strong><strong>Business After Hours / Business of the Quarter</strong></strong></span><br />\n&nbsp\;</span></div>\n\n<div style="text-align: center\;"><span style="font-size: 16px\;"><span style="font-family: arial\;"><strong>&nbsp\;Join us&nbsp\; for the next Business After Hours<br />\nWe will be celebrating<br />\nCorrugated Replacements<br />\nas<br />\n<span style="color: rgb(255\, 0\, 0)\;">&quot\;Business of the Quarter&quot\;</span><br />\n<br />\n<span style="color: rgb(255\, 0\, 0)\;"><strong><em>Hosting and Sponsoring the event:</em></strong></span></strong></span></span>\n\n<div _mce_style="font-size: 10pt\;">\n<div _mce_style="text-align: center\;" align="center" style="text-align: center\;">\n<div align="center" style=""><font color="#ff0000"><span style="font-size: 16px\;"><b>Southern Bank and Trust</b></span></font></div>\n</div>\n</div>\n</div>\n</div>\n
LOCATION:Southern Bank and Trust Blairsville\, GA 30512
UID:e.256.70002
SEQUENCE:3
DTSTAMP:20260420T034615Z
URL:https://members.visitblairsvillega.com/events/details/chamber-business-after-hours-70002
END:VEVENT

END:VCALENDAR
