BEGIN:VCALENDAR
VERSION:2.0
PRODID:-//ChamberMaster//Event Calendar 2.0//EN
METHOD:PUBLISH
X-PUBLISHED-TTL:P3D
REFRESH-INTERVAL:P3D
CALSCALE:GREGORIAN
BEGIN:VEVENT
DTSTART:20170615T213000Z
DTEND:20170615T220000Z
X-MICROSOFT-CDO-ALLDAYEVENT:FALSE
SUMMARY:Chamber Business After Hours
DESCRIPTION:Join us at Grandaddy Mimm's Distillery & Museum for the next Business After Hours.  This is a FREE networking event for Chamber Members. Bring your business cards  and get ready to have a great time!  Be sure to stick around for the Grandaddy Mimm's open house beginning at 6pm.
X-ALT-DESC;FMTTYPE=text/html:Join us at Grandaddy Mimm&#39\;s Distillery &amp\; Museum for the next Business After Hours.&nbsp\; This is a FREE networking event for Chamber Members. Bring your business cards&nbsp\; and get ready to have a great time!&nbsp\; Be sure to stick around for the Grandaddy Mimm&#39\;s open house beginning at 6pm.
LOCATION:Grandaddy Mimm's Distillery & Museum 161 Pappys Plaza Blairsville\, GA
UID:e.256.74153
SEQUENCE:3
DTSTAMP:20260420T003914Z
URL:https://members.visitblairsvillega.com/events/details/chamber-business-after-hours-74153
END:VEVENT

END:VCALENDAR
