BEGIN:VCALENDAR
VERSION:2.0
PRODID:-//ChamberMaster//Event Calendar 2.0//EN
METHOD:PUBLISH
X-PUBLISHED-TTL:P3D
REFRESH-INTERVAL:P3D
CALSCALE:GREGORIAN
BEGIN:VEVENT
DTSTART:20140917T113000Z
DTEND:20140917T133000Z
X-MICROSOFT-CDO-ALLDAYEVENT:FALSE
SUMMARY:Chamber Business Round Tables
DESCRIPTION:The Chamber is now offering Business Roundtables as a member benefit. Roundtables will consist of 8-12 non-competing\, member business owners who meet once a month excluding July and December. The purpose of the group is to serve as advisors and/or sounding boards to help each other grow and prosper.\n\nThe meeting is on the third Wednesday (7:30-9:30am)of the month.\n\nIf you are interested in applying to be part of a group\, please contact Cindy Williams at 706-745-5789.
X-ALT-DESC;FMTTYPE=text/html:The Chamber is now offering Business Roundtables as a member benefit. Roundtables will consist of 8-12 non-competing\, member business owners who meet once a month excluding July and December. The purpose of the group is to serve as advisors and/or sounding boards to help each other grow and prosper.<br />\nThe meeting is on the third Wednesday (7:30-9:30am)of the month.<br />\nIf you are interested in applying to be part of a group\, please contact Cindy Williams at 706-745-5789.
LOCATION:Union County Community Center 129 Union County Rec Rd Blairsville\, GA
UID:e.256.21920
SEQUENCE:3
DTSTAMP:20260424T062221Z
URL:https://members.visitblairsvillega.com/events/details/chamber-business-round-tables-09-17-2014-21920
END:VEVENT

END:VCALENDAR
