BEGIN:VCALENDAR
VERSION:2.0
PRODID:-//ChamberMaster//Event Calendar 2.0//EN
METHOD:PUBLISH
X-PUBLISHED-TTL:P3D
REFRESH-INTERVAL:P3D
CALSCALE:GREGORIAN
BEGIN:VEVENT
DTSTART:20160210T163000Z
DTEND:20160210T173000Z
X-MICROSOFT-CDO-ALLDAYEVENT:FALSE
SUMMARY:Chamber Business Roundtable
DESCRIPTION:Chamber Business Roundtable provides peer-to-peer education and support on a variety of topics.This free training is part of your Blairsville-Union County Chamber membership benefits and no registration is  required. Just show up\, bring your lunch\, and get ready to learn!\n\n\n\n \n\n\nChamber Business Roundtable will meet on the second Wednesday (11:30 am-12:30 pm\, excluding July & December). So take advantage of this free training as part of your Blairsville-Union County Chamber membership benefits.
X-ALT-DESC;FMTTYPE=text/html:Chamber Business Roundtable provides peer-to-peer education and support on a variety of topics.This free training is part of your Blairsville-Union County Chamber membership benefits and no registration is&nbsp\;<span> required</span>. Just show up\, bring your lunch\, and get ready to learn!\n\n<div align="center" style="text-align: center\;">\n<div>\n<div>&nbsp\;</div>\n</div>\n</div>\nChamber Business Roundtable will meet on the second Wednesday (11:30 am-12:30 pm\, excluding July &amp\; December). So take advantage of this free training as part of your Blairsville-Union County Chamber membership benefits.<br />\n<br />\n&nbsp\;<br />\n&nbsp\;
LOCATION:Union County Community Center 129 Union County Rec Rd Blairsville\, GA
UID:e.256.45199
SEQUENCE:3
DTSTAMP:20260421T035830Z
URL:https://members.visitblairsvillega.com/events/details/chamber-business-roundtable-02-10-2016-45199
END:VEVENT

END:VCALENDAR
