BEGIN:VCALENDAR
VERSION:2.0
PRODID:-//ChamberMaster//Event Calendar 2.0//EN
METHOD:PUBLISH
X-PUBLISHED-TTL:P3D
REFRESH-INTERVAL:P3D
CALSCALE:GREGORIAN
BEGIN:VEVENT
DTSTART:20160810T153000Z
DTEND:20160810T163000Z
X-MICROSOFT-CDO-ALLDAYEVENT:FALSE
SUMMARY:Chamber Business Roundtable
DESCRIPTION:Chamber Business Roundtable provides peer-to-peer education and support on a variety of topics.This free training is part of your Blairsville-Union County Chamber membership benefits and no registration is  required. Just show up\, bring your lunch\, and get ready to learn!\n\n\n\n \n\n\nChamber Business Roundtable will meet on the second Wednesday (11:30 am-12:30 pm\, excluding July & December). So take advantage of this free training as part of your Blairsville-Union County Chamber membership benefits.\n\n\n\nThis month: What are the steps you should take? Who do you hire? The list goes on and on for growing businesses. That's why we want to hear from the best how they did it. \n\n\n\nWe have a dynamic panel of business and community leaders from Blairsville at the Business Roundtable to discuss these questions and much more Wednesday\, August 10th.\n\n\n\nOur panel participants:\n\n-Mike Kiernan with Panel Built Inc\n\n-Daniel Libratore with Chick-fil-A Blairsville\n\n-Tony Dyer with Park Sterling Bank\n\n-Mitch Griggs with Union County Development Authority\n\n\n\nYou can submit questions ahead of time on the Facebook Group: https://goo.gl/MyFvbD
X-ALT-DESC;FMTTYPE=text/html:Chamber Business Roundtable provides peer-to-peer education and support on a variety of topics.This free training is part of your Blairsville-Union County Chamber membership benefits and no registration is&nbsp\;<span> required</span>. Just show up\, bring your lunch\, and get ready to learn!\n\n<div align="center" style="text-align: center\;">\n<div>\n<div>&nbsp\;</div>\n</div>\n</div>\nChamber Business Roundtable will meet on the second Wednesday (11:30 am-12:30 pm\, excluding July &amp\; December). So take advantage of this free training as part of your Blairsville-Union County Chamber membership benefits.<br />\n<br />\nThis month:&nbsp\;<span style="font-family:calibri\,sans-serif\;">What are the steps you should take? Who do you hire? The list goes on and on for growing businesses. That&rsquo\;s why we want to hear from the best how they did it.&nbsp\;<br />\n<br />\nWe have a dynamic panel of business and community leaders from Blairsville at the Business Roundtable to discuss these questions and much more Wednesday\, August 10th.<br />\n<br />\nOur panel participants:<br />\n-Mike Kiernan with&nbsp\;<a href="https://links6.mixmaxusercontent.com/sXD8MPiF5Ni5udXAn/l/U3Mi9aZQVuHUjCMTk?messageId=qXYaMKprOvlkSENI0&amp\;rn=gIyVGbk5WYoNEIllmYvRlI&amp\;re=gI0Vmbu0WYlJHdzRmbpdHQtNXayV3b0JXZi1WYoNmI">Panel Built Inc</a><br />\n-Daniel Libratore with&nbsp\;<a href="https://links7.mixmaxusercontent.com/sXD8MPiF5Ni5udXAn/l/xACbrytscAYNgHaOs?messageId=qXYaMKprOvlkSENI0&amp\;rn=gIyVGbk5WYoNEIllmYvRlI&amp\;re=gI0Vmbu0WYlJHdzRmbpdHQtNXayV3b0JXZi1WYoNmI">Chick-fil-A Blairsville</a><br />\n-Tony Dyer with Park Sterling Bank<br />\n-Mitch Griggs with Union County Development Authority<br />\n<br />\nYou can submit questions ahead of time on the Facebook Group: <a href="https://goo.gl/MyFvbD">https://goo.gl/MyFvbD</a></span><br />\n<br />\n<br />\n&nbsp\;<br />\n&nbsp\;
LOCATION:Union County Community Center 129 Union County Rec Rd Blairsville\, GA
UID:e.256.45205
SEQUENCE:3
DTSTAMP:20260420T162335Z
URL:https://members.visitblairsvillega.com/events/details/chamber-business-roundtable-08-10-2016-45205
END:VEVENT

END:VCALENDAR
