BEGIN:VCALENDAR
VERSION:2.0
PRODID:-//ChamberMaster//Event Calendar 2.0//EN
METHOD:PUBLISH
X-PUBLISHED-TTL:P3D
REFRESH-INTERVAL:P3D
CALSCALE:GREGORIAN
BEGIN:VEVENT
DTSTART:20151118T213000Z
DTEND:20151118T230000Z
X-MICROSOFT-CDO-ALLDAYEVENT:FALSE
SUMMARY:Chamber Business Roundtable
DESCRIPTION:The Chamber is now offering Business Roundtables as a member benefit. Roundtables will consist of member business owners who meet once a month. The purpose of the group is to serve as advisors and/or sounding boards to help each other grow and prosper. \n\nThe meeting is on the third Wednesday (4:30 pm-6:30 pm) for September\, October\, November and December. If you are interested\, please join us and we will have a great time and explain the new Roundtables format. This is a free training so all you need to do is show up\, enjoy\, and learn.\n\n \n\nSo take advantage of this free training as part of your Blairsville-Union County Chamber membership benefits.\n\nAny additional questions\, call the Chamber at 706-745-5789.
X-ALT-DESC;FMTTYPE=text/html:The Chamber is now offering Business Roundtables as a member benefit. Roundtables will consist of member business owners who meet once a month. The purpose of the group is to serve as advisors and/or sounding boards to help each other grow and prosper.&nbsp\;<br />\nThe meeting is on the third Wednesday (4:30 pm-6:30 pm) for September\, October\, November and December. If you are interested\, please join us and we will have a great time and explain the new Roundtables format. This is a free training so all you need to do is show up\, enjoy\, and learn.<br />\n&nbsp\;<br />\nSo take advantage of this free training as part of your Blairsville-Union County Chamber membership benefits.<br />\nAny additional questions\, call the Chamber at 706-745-5789.<br />\n&nbsp\;
LOCATION:Union County Community Center 129 Union County Rec Rd Blairsville\, GA
UID:e.256.34986
SEQUENCE:3
DTSTAMP:20260423T085129Z
URL:https://members.visitblairsvillega.com/events/details/chamber-business-roundtable-11-18-2015-34986
END:VEVENT

END:VCALENDAR
