BEGIN:VCALENDAR
VERSION:2.0
PRODID:-//ChamberMaster//Event Calendar 2.0//EN
METHOD:PUBLISH
X-PUBLISHED-TTL:P3D
REFRESH-INTERVAL:P3D
CALSCALE:GREGORIAN
BEGIN:VEVENT
DTSTART:20160914T153000Z
DTEND:20160914T163000Z
X-MICROSOFT-CDO-ALLDAYEVENT:FALSE
SUMMARY:Chamber Business Roundtable Leadership’s impact on productivity\, profitability and well-being.
DESCRIPTION:THIS MONTH'S BUSINESS ROUNDTABLE HAS BEEN CANCELED.
X-ALT-DESC;FMTTYPE=text/html:<div style="text-align: center\;"><strong><span style="color: rgb(178\, 34\, 34)\;"><span style="font-family: arial\,sans-serif\;"><span style="font-size: 11pt\;">THIS MONTH&#39\;S BUSINESS ROUNDTABLE HAS BEEN CANCELED.&nbsp\;</span></span></span></strong></div>\n<br />\n&nbsp\;
LOCATION:Union County Community Center 129 Union County Rec Rd Blairsville\, GA
UID:e.256.45206
SEQUENCE:3
DTSTAMP:20260420T145853Z
URL:https://members.visitblairsvillega.com/events/details/chamber-business-roundtable-leadership-s-impact-on-productivity-profitability-and-well-being-45206
END:VEVENT

END:VCALENDAR
