BEGIN:VCALENDAR
VERSION:2.0
PRODID:-//ChamberMaster//Event Calendar 2.0//EN
METHOD:PUBLISH
X-PUBLISHED-TTL:P3D
REFRESH-INTERVAL:P3D
CALSCALE:GREGORIAN
BEGIN:VEVENT
DTSTART:20140410T213000Z
DTEND:20140410T223000Z
X-MICROSOFT-CDO-ALLDAYEVENT:FALSE
SUMMARY:Chamber of Commerce "Business After Hours & Business of the Quarter"
DESCRIPTION:Business After Hours Event!\n\n \n\n Join us Thursday\, April 10th from 5:30pm - 6:30pm\n\nChamber of Commerce\, located inside the\n\n Union County Community Center\n\n\n\nWe will be celebrating\n\n"Business of the Quarter"\n\nMountain Education Charter High School\n\n\n\nSponsored by:\n\nEdward Jones Investments - Flip Varney\n\nJoan Shaw - Coldwell Banker High Country Realty\n\n\n\nCatering by: \n\nAmazing Grace Catering & Events\n\nTheme\n\nApril in Paris!\n\n\n\nBring your business cards & experience\n\nThe Power of Networking!
X-ALT-DESC;FMTTYPE=text/html:<div style="text-align: center\;"><span style="font-size: 14px\;"><span style="font-family: arial\;"><strong><strong>Business After Hours Event!</strong></strong></span></span><br />\n&nbsp\;</div>\n\n<div style="text-align: center\;"><span style="font-family: arial\;"><strong>&nbsp\;Join us Thursday\,&nbsp\;April 10th from 5:30pm - 6:30pm<br />\nChamber of Commerce\, located inside the<br />\n&nbsp\;Union County Community Center<br />\n<br />\nWe will be celebrating<br />\n<em><span style="color: rgb(255\, 0\, 0)\;">&quot\;Business of the Quarter&quot\;</span></em></strong></span><br />\n<em><strong>Mountain Education Charter High School</strong></em><br />\n<br />\n<span style="font-family: arial\;"><strong><font color="#ff0000"><strong><em>Sponsored by:</em></strong></font></strong></span><br />\n<strong>Edward Jones Investments - Flip Varney</strong><br />\n<span style="font-family: arial\;"><strong>Joan Shaw - Coldwell Banker High Country&nbsp\;Realty<br />\n<br />\n<em><span style="color: rgb(255\, 0\, 0)\;">Catering by: </span></em><br />\nAmazing Grace Catering &amp\; Events<br />\n<span style="color: rgb(255\, 0\, 0)\;">Theme</span><br />\nApril in Paris!</strong><br />\n<br />\nBring your business cards &amp\; experience<br />\nThe Power of Networking<em><strong>!</strong></em></span><br />\n<br />\n&nbsp\;</div>\n
LOCATION:Blairsville Union County Chamber of Commerce 129 Union County Rec Rd Blairsville\, GA
UID:e.256.23229
SEQUENCE:3
DTSTAMP:20260424T134211Z
URL:https://members.visitblairsvillega.com/events/details/chamber-of-commerce-business-after-hours-business-of-the-quarter-04-10-2014-23229
END:VEVENT

END:VCALENDAR
