BEGIN:VCALENDAR
VERSION:2.0
PRODID:-//ChamberMaster//Event Calendar 2.0//EN
METHOD:PUBLISH
X-PUBLISHED-TTL:P3D
REFRESH-INTERVAL:P3D
CALSCALE:GREGORIAN
BEGIN:VEVENT
DTSTART:20141016T213000Z
DTEND:20141016T223000Z
X-MICROSOFT-CDO-ALLDAYEVENT:FALSE
SUMMARY:Chamber of Commerce "Business After Hours & Business of the Quarter"
DESCRIPTION:Business After Hours Event!\n\nJoin us Thursday\,October 16th from 5:30pm - 6:30pm at the Chamber of Commerce\,\n\nlocated inside the Union County Community Center.\n\nWe will be celebrating "Business of the Quarter"\n\n"Woodmen of the World"\n\nSponsored by: Pro Therapy and Budget Blinds\n\nCatering by: Amazing Grace Catering & Events\n\nBring your business cards & experience\n\nThe Power of Networking!
X-ALT-DESC;FMTTYPE=text/html:<div style="text-align: center\;"><span style="font-family: verdana\;"><span style="color: rgb(178\, 34\, 34)\;">Business After Hours Event!<br />\nJoin us Thursday\,October 16th from 5:30pm - 6:30pm at the Chamber of Commerce\,<br />\nlocated inside the Union County Community Center.<br />\nWe will be celebrating &quot\;Business of the Quarter&quot\;<br />\n&quot\;Woodmen of the World&quot\;<br />\nSponsored by: Pro Therapy and Budget Blinds<br />\nCatering by: Amazing Grace Catering &amp\; Events<br />\nBring your business cards &amp\; experience<br />\n<em><strong>The Power of Networking</strong></em>!</span></span></div>\n
LOCATION:Blairsville Union County Chamber of Commerce 129 Union County Rec Rd Blairsville\, GA
UID:e.256.27446
SEQUENCE:3
DTSTAMP:20260424T045849Z
URL:https://members.visitblairsvillega.com/events/details/chamber-of-commerce-business-after-hours-business-of-the-quarter-10-16-2014-27446
END:VEVENT

END:VCALENDAR
