BEGIN:VCALENDAR
VERSION:2.0
PRODID:-//ChamberMaster//Event Calendar 2.0//EN
METHOD:PUBLISH
X-PUBLISHED-TTL:P3D
REFRESH-INTERVAL:P3D
CALSCALE:GREGORIAN
BEGIN:VEVENT
DTSTART:20140819T114500Z
DTEND:20140819T130000Z
X-MICROSOFT-CDO-ALLDAYEVENT:FALSE
SUMMARY:Chamber of Commerce Power Breakfast with Wes Durham
DESCRIPTION:The Blairsville-Union County Chamber of Commerce is pleased to welcome Dallas "Wes" Durham as the guest speaker for our 2014 Power Breakfast.  From the sports world to the business world\, loyalty is a key element of success. Hear stories from Georgia's Sportscaster of the Year and enjoy a memorable breakfast experience. \n\n\n\nWes served as the radio play-by-play announcer for the Georgia Tech football and men's basketball teams since the start of the 1995-1996 season through June 2013. He was also Georgia Tech's Director of Broadcasting and is the radio play-by-play announcer for the Atlanta Falcons.\n\n\n\nThere will be an open Q&A session following the presentation.\n\n \n\nThis event is sponsored by Jeff Davis State Farm. \n\nClick here for more information on our sponsor.
X-ALT-DESC;FMTTYPE=text/html:<div><br />\n<span style="color: rgb(0\, 0\, 128)\;"><span style="font-size: 14px\;"><span style="font-family: arial\;"><strong>The Blairsville-Union County Chamber of Commerce is pleased to welcome Dallas &quot\;Wes&quot\; Durham as the guest speaker for our 2014 Power Breakfast.&nbsp\; </strong><span style="color: rgb(0\, 0\, 128)\;"><span style="font-size: 14px\;"><strong><span style="font-family: arial\;">From the sports world to the business world\, loyalty is a key element of success.&nbsp\;Hear stories from Georgia&#39\;s Sportscaster of the Year and enjoy a memorable breakfast experience.&nbsp\;</span></strong></span></span></span></span></span><br />\n<br />\n<strong><span style="font-size: 14px\;"><span style="font-family: arial\;"><span style="color: rgb(0\, 0\, 128)\;">Wes served as the radio&nbsp\;play-by-play</span><span style="color: rgb(0\, 0\, 128)\;"> announcer for the Georgia Tech</span><span style="color: rgb(0\, 0\, 128)\;">&nbsp\;football and men&#39\;s basketball teams since the start of the 1995-1996 season through June 2013. He was also Georgia Tech&#39\;s Director of Broadcasting and is the radio play-by-play announcer for the Atlanta Falcons.</span></span></span></strong><br />\n<br />\n<span style="font-size: 14px\;"><span style="font-family: arial\;"><strong><font color="#000080">There will be an open Q&amp\;A session following&nbsp\;the presentation.</font></strong></span></span><br />\n&nbsp\;</div>\n\n<div style="text-align: center\;"><strong><span style="color: rgb(255\, 0\, 0)\;">This event is sponsored by Jeff Davis State Farm.&nbsp\;</span><br />\n<u><a href="http://members.visitblairsvillega.com/list/member/jeff-davis-state-farm-1443"><span style="color: rgb(255\, 0\, 0)\;">Click&nbsp\;here</span></a></u><span style="color: rgb(255\, 0\, 0)\;"> for more information on our sponsor.</span></strong><br />\n&nbsp\;</div>\n
LOCATION:Union County Community Center 129 Union County Rec Rd. Blairsville\, GA
UID:e.256.25370
SEQUENCE:3
DTSTAMP:20260424T074010Z
URL:https://members.visitblairsvillega.com/events/details/chamber-of-commerce-power-breakfast-with-wes-durham-08-19-2014-25370
END:VEVENT

END:VCALENDAR
