BEGIN:VCALENDAR
VERSION:2.0
PRODID:-//ChamberMaster//Event Calendar 2.0//EN
METHOD:PUBLISH
X-PUBLISHED-TTL:P3D
REFRESH-INTERVAL:P3D
CALSCALE:GREGORIAN
BEGIN:VEVENT
DTSTART:20160816T154500Z
DTEND:20160816T170000Z
X-MICROSOFT-CDO-ALLDAYEVENT:FALSE
SUMMARY:Chamber of Commerce Power Lunch with Commissioner Chris Carr
DESCRIPTION:The Blairsville-Union\n\n                 County Chamber of Commerce\n\n                                    Presents\n\n                  Commissioner Chris Carr\n\n                   as our guest speaker for our\n\n                    2016 August Power Lunch.\nChris Carr\, Commissioner of the Georgia Department of Economic Development (GDEcD)\, joined the agency in November 2013. As Commissioner\, he leads the state agency responsible for creating jobs and investment in Georgia through business recruitment and expansion\, international trade and tourism\, as well as the arts\, film and music industries.\n\nPrior to joining GDEcD\, Carr was Chief of Staff for Senator Johnny Isakson. Carr began his career with Georgia Pacific\, moving on to practice law with Alston & Bird LLP and then serving as Vice President and General Counsel for the Georgia Public Policy Foundation.\n\nCarr graduated from the University of Georgia's Terry College of Business and Lumpkin School of Law. He lives in Dunwoody and has a daughter\, Mary Clifton.\nSponsored & Catered by: Chick-fil-A
X-ALT-DESC;FMTTYPE=text/html:<div style="background: rgb(238\, 238\, 238)\; padding: 5px 10px\; border: 1px solid rgb(204\, 204\, 204)\; border-image: none\;"><span style="font-size: 18px\;"><span style="font-family: times new roman\;"><strong>&nbsp\;&nbsp\;&nbsp\;&nbsp\;&nbsp\;&nbsp\;&nbsp\;&nbsp\;&nbsp\;&nbsp\;&nbsp\;&nbsp\;&nbsp\;&nbsp\;&nbsp\;&nbsp\;&nbsp\;&nbsp\;&nbsp\;&nbsp\;&nbsp\;&nbsp\;&nbsp\;&nbsp\; The Blairsville-Union<br />\n&nbsp\;&nbsp\;&nbsp\;&nbsp\;&nbsp\;&nbsp\;&nbsp\;&nbsp\;&nbsp\;&nbsp\;&nbsp\;&nbsp\;&nbsp\;&nbsp\;&nbsp\;&nbsp\; County Chamber of Commerce</strong><br />\n&nbsp\;&nbsp\;&nbsp\;&nbsp\;&nbsp\;&nbsp\;&nbsp\;&nbsp\;&nbsp\;&nbsp\;&nbsp\;&nbsp\;&nbsp\;&nbsp\;&nbsp\;&nbsp\;&nbsp\;&nbsp\;&nbsp\;&nbsp\;&nbsp\;&nbsp\;&nbsp\;&nbsp\;&nbsp\;&nbsp\;&nbsp\;&nbsp\;&nbsp\;&nbsp\;&nbsp\;&nbsp\;&nbsp\;&nbsp\;&nbsp\; Presents<br />\n<strong>&nbsp\;&nbsp\;&nbsp\;&nbsp\;&nbsp\;&nbsp\;&nbsp\;&nbsp\;&nbsp\;&nbsp\;&nbsp\;&nbsp\;&nbsp\;&nbsp\;&nbsp\;&nbsp\;&nbsp\;&nbsp\;Commissioner Chris Carr</strong></span><br />\n<span style="font-family: times new roman\;"><strong>&nbsp\;&nbsp\;&nbsp\;&nbsp\;&nbsp\;&nbsp\;&nbsp\;&nbsp\;&nbsp\;&nbsp\;&nbsp\;&nbsp\;&nbsp\;&nbsp\;&nbsp\;&nbsp\;&nbsp\;&nbsp\; a</strong><strong>s our guest speaker for our<br />\n&nbsp\;&nbsp\;&nbsp\;&nbsp\;&nbsp\;&nbsp\;&nbsp\;&nbsp\;&nbsp\;&nbsp\;&nbsp\;&nbsp\;&nbsp\;&nbsp\;&nbsp\;&nbsp\;&nbsp\;&nbsp\;&nbsp\; 2016 August Power Lunch.</strong></span></span>\n<p style="line-height: 13.35pt\;"><span style="color: rgb(48\, 49\, 49)\; font-family: ">Chris Carr\, Commissioner of the Georgia Department of Economic Development (GDEcD)\, joined the agency in November 2013. As Commissioner\, he leads the state agency responsible for creating jobs and investment in Georgia through business recruitment and expansion\, international trade and tourism\, as well as the arts\, film and music industries.</span></p>\n\n<p style="line-height: 13.35pt\;"><span style="color: rgb(48\, 49\, 49)\; font-family: ">Prior to joining GDEcD\, Carr was Chief of Staff for Senator Johnny Isakson. Carr began his career with Georgia Pacific\, moving on to practice law with Alston &amp\; Bird LLP and then serving as Vice President and General Counsel for the Georgia Public Policy Foundation.</span></p>\n\n<p style="line-height: 13.35pt\;"><span style="color: rgb(48\, 49\, 49)\; font-family: ">Carr graduated from the University of Georgia&rsquo\;s Terry College of Business and Lumpkin School of Law. He lives in Dunwoody and has a daughter\, Mary Clifton.</span></p>\n<span style="font-size: 16px\;"><strong><span style="font-family: verdana\;">Sponsored &amp\; Catered by: <font color="#0000ff">Chick-fil-A</font></span></strong></span><br />\n<br />\n<br />\n&nbsp\;</div>\n
LOCATION:Union County Community Center 129 Union County Rec Rd. Blairsville\, GA
UID:e.256.53049
SEQUENCE:3
DTSTAMP:20260420T165057Z
URL:https://members.visitblairsvillega.com/events/details/chamber-of-commerce-power-lunch-with-commissioner-chris-carr-08-16-2016-53049
END:VEVENT

END:VCALENDAR
