BEGIN:VCALENDAR
VERSION:2.0
PRODID:-//ChamberMaster//Event Calendar 2.0//EN
METHOD:PUBLISH
X-PUBLISHED-TTL:P3D
REFRESH-INTERVAL:P3D
CALSCALE:GREGORIAN
BEGIN:VEVENT
DTSTART:20150818T154500Z
DTEND:20150818T170000Z
X-MICROSOFT-CDO-ALLDAYEVENT:FALSE
SUMMARY:Chamber of Commerce Power Lunch with Lt. Governor Casey Cagle
DESCRIPTION:The Blairsville-Union\n\n                 County Chamber of Commerce\n\n                                    Presents\n\n                    Lt. Governor Casey Cagle\n\n                   as our guest speaker for our\n\n                    2015 August Power Lunch.\n\n\n\nA successful entrepreneur and respected former State Senator\, Casey Cagle made history in 2006 by becoming the first Republican elected to Georgia's second highest office.  As Lt. Governor\, Casey championed the Charter Systems Act\, which improved education in our state while providing a path to career technical education for Georgia's high school students.  Additionally\, he launched the Georgia College and Career Academy Network\, a partnership between local community leaders\, school systems\, and Georgia's technical colleges.  Finally\, an avid triathlete himself\, Casey leads Healthy Kids Georgia\, an effort to encourage local partnerships that introduce children to healthy lifestyle options. \n\n\n\n     Sponsored by: Park Sterling Bank\n\n\n\nMenu\n\nPineapple Chicken in a light sauce\n\nSaffron Yellow Rice\n\n Salad / Rolls & Butter\n\nFresh Green Beans\, Carrots & Sweet Peppers Medley\n\n Dessert: Fresh Fruit / Cookies\n\n Sweet\, Unsweetened Tea\, Water Bottles\n\nCoffee Service
X-ALT-DESC;FMTTYPE=text/html:<div style="background: rgb(238\, 238\, 238)\; padding: 5px 10px\; border: 1px solid rgb(204\, 204\, 204)\; border-image: none\;">\n<div style="background: rgb(238\, 238\, 238)\; padding: 5px 10px\; border: 1px solid rgb(204\, 204\, 204)\; border-image: none\;"><span style="font-size: 18px\;"><span style="font-family: times new roman\;"><strong>&nbsp\;&nbsp\;&nbsp\;&nbsp\;&nbsp\;&nbsp\;&nbsp\;&nbsp\;&nbsp\;&nbsp\;&nbsp\;&nbsp\;&nbsp\;&nbsp\;&nbsp\;&nbsp\;&nbsp\;&nbsp\;&nbsp\;&nbsp\;&nbsp\;&nbsp\;&nbsp\;&nbsp\; The Blairsville-Union<br />\n&nbsp\;&nbsp\;&nbsp\;&nbsp\;&nbsp\;&nbsp\;&nbsp\;&nbsp\;&nbsp\;&nbsp\;&nbsp\;&nbsp\;&nbsp\;&nbsp\;&nbsp\;&nbsp\; County Chamber of Commerce</strong><br />\n&nbsp\;&nbsp\;&nbsp\;&nbsp\;&nbsp\;&nbsp\;&nbsp\;&nbsp\;&nbsp\;&nbsp\;&nbsp\;&nbsp\;&nbsp\;&nbsp\;&nbsp\;&nbsp\;&nbsp\;&nbsp\;&nbsp\;&nbsp\;&nbsp\;&nbsp\;&nbsp\;&nbsp\;&nbsp\;&nbsp\;&nbsp\;&nbsp\;&nbsp\;&nbsp\;&nbsp\;&nbsp\;&nbsp\;&nbsp\;&nbsp\; Presents<br />\n<strong>&nbsp\;&nbsp\;&nbsp\;&nbsp\;&nbsp\;&nbsp\;&nbsp\;&nbsp\;&nbsp\;&nbsp\;&nbsp\;&nbsp\;&nbsp\;&nbsp\;&nbsp\;&nbsp\;&nbsp\;&nbsp\;&nbsp\; Lt. Governor Casey Cagle<br />\n&nbsp\;&nbsp\;&nbsp\;&nbsp\;&nbsp\;&nbsp\;&nbsp\;&nbsp\;&nbsp\;&nbsp\;&nbsp\;&nbsp\;&nbsp\;&nbsp\;&nbsp\;&nbsp\;&nbsp\;&nbsp\; a</strong><strong>s our guest speaker for our<br />\n&nbsp\;&nbsp\;&nbsp\;&nbsp\;&nbsp\;&nbsp\;&nbsp\;&nbsp\;&nbsp\;&nbsp\;&nbsp\;&nbsp\;&nbsp\;&nbsp\;&nbsp\;&nbsp\;&nbsp\;&nbsp\;&nbsp\; 2015 August Power Lunch.</strong><br />\n<br />\nA successful entrepreneur and respected former State Senator\, Casey Cagle made history in 2006 by becoming the first Republican elected to Georgia&rsquo\;s second highest office. &nbsp\;As Lt. Governor\, Casey championed the Charter Systems Act\, which improved education in our state while providing a path to career technical education for Georgia&rsquo\;s high school students.&nbsp\; Additionally\, he launched the Georgia College and Career Academy Network\, a partnership between local community leaders\, school systems\, and Georgia&rsquo\;s technical colleges.&nbsp\; Finally\, an avid triathlete himself\, Casey leads Healthy Kids Georgia\, an effort to encourage local partnerships that introduce children to healthy lifestyle options.&nbsp\;</span></span><br />\n<br />\n<span style="font-size: 16px\;"><strong>&nbsp\;&nbsp\;<span style="font-family: verdana\;">&nbsp\;&nbsp\; Sponsored by: <span style="color: rgb(0\, 0\, 255)\;">Park Sterling Bank</span></span></strong></span><br />\n<br />\n<u><span style="font-family:monotype corsiva\;"><span style="font-size:16.0pt\;">Menu</span></span></u><br />\n<span style="font-family:monotype corsiva\;"><span style="font-size:16.0pt\;">Pineapple Chicken in a light sauce</span></span><br />\n<span style="font-family:monotype corsiva\;"><span style="font-size:16.0pt\;">Saffron Yellow Rice</span></span><br />\n&nbsp\;<span style="font-family:monotype corsiva\;"><span style="font-size:16.0pt\;">Salad / Rolls &amp\; Butter</span></span><br />\n<span style="font-family:monotype corsiva\;"><span style="font-size:16.0pt\;">Fresh Green Beans\, Carrots &amp\; Sweet Peppers Medley</span></span><br />\n&nbsp\;<span style="font-family:monotype corsiva\;"><span style="font-size:16.0pt\;">Dessert: Fresh Fruit / Cookies</span></span><br />\n&nbsp\;<span style="font-family:monotype corsiva\;"><span style="font-size:16.0pt\;">Sweet\, Unsweetened Tea\, Water Bottles</span></span><br />\n<span style="font-family:monotype corsiva\;"><span style="font-size:16.0pt\;">Coffee Service</span></span><br />\n&nbsp\;</div>\n</div>\n
LOCATION:Union County Community Center 129 Union County Rec Rd. Blairsville\, GA
UID:e.256.41323
SEQUENCE:3
DTSTAMP:20260423T151509Z
URL:https://members.visitblairsvillega.com/events/details/chamber-of-commerce-power-lunch-with-lt-governor-casey-cagle-08-18-2015-41323
END:VEVENT

END:VCALENDAR
