BEGIN:VCALENDAR
VERSION:2.0
PRODID:-//ChamberMaster//Event Calendar 2.0//EN
METHOD:PUBLISH
X-PUBLISHED-TTL:P3D
REFRESH-INTERVAL:P3D
CALSCALE:GREGORIAN
BEGIN:VEVENT
DTSTART:20171215T163000Z
DTEND:20171216T000000Z
X-MICROSOFT-CDO-ALLDAYEVENT:FALSE
SUMMARY:Change Community Christmas
DESCRIPTION:Our vision is for the spirit of Christmas to be FELT when you enter the room. A warm embrace from our local community\, sweet carols\, beautiful lights\, luscious smells of Christmas pine and hot chocolate\, children laughing  Everyone in high spirits\, celebrating and enjoying each other and the blessings of the season. A truly one of a kind event! All members\, from all backgrounds and ages\, of our community coming together\, despite social class\, religious beliefs\, or political beliefs! Join us and local organizations as we fellowship with our community and celebrate the season!
X-ALT-DESC;FMTTYPE=text/html:Our vision is for the spirit of Christmas to be FELT when you enter the room. A warm embrace from our local community\, sweet carols\, beautiful lights\, luscious smells of Christmas pine and hot chocolate\, children laughing&hellip\; Everyone in high spirits\, celebrating and enjoying each other and the blessings of the season. A truly one of a kind event! All members\, from all backgrounds and ages\, of our community coming together\, despite social class\, religious beliefs\, or political beliefs! Join us and local organizations as we fellowship with our community and celebrate the season!
LOCATION:Union County Civic Center
UID:e.256.77067
SEQUENCE:3
DTSTAMP:20260419T120844Z
URL:https://members.visitblairsvillega.com/events/details/change-community-christmas-77067
END:VEVENT

END:VCALENDAR
