BEGIN:VCALENDAR
VERSION:2.0
PRODID:-//ChamberMaster//Event Calendar 2.0//EN
METHOD:PUBLISH
X-PUBLISHED-TTL:P3D
REFRESH-INTERVAL:P3D
CALSCALE:GREGORIAN
BEGIN:VEVENT
DTSTART:20170803T120000Z
DTEND:20170803T180000Z
X-MICROSOFT-CDO-ALLDAYEVENT:FALSE
SUMMARY:Charity Golf Event-Battle of the Sexes
DESCRIPTION:The 2nd annual Battle of the Sexes golf tournament\, organized and hosted by the Butternut Creek Ladies Golf Association\, will be held Thursday\, August 3\, 2017 at Butternut Creek Golf Course. Registration and breakfast are from 8:00 a.m. to 8:45 a.m. Shotgun start at 9:00 a.m. SHARP!! Cost is $45 per golfer and includes golf\, breakfast and lunch. The format is Net Better Ball of your twosome and works this way: Two players\, either two Lads or two Lassies\, on the team each play their own golf ball throughout the round. On each hole\, the two team members compare scores\, and the lower of their two net scores (the better ball counts as the team's score.) While you may be playing with your spouse in the foursome\, scoring of the Battle will consist of taking the net better scores of all Lassie pairings\, against the net better scores of all Lads pairings. Lads or Lassies will be announced as the winner during lunch. The top three winning teams from both the Lads and Lassies will each receive a free round of golf at Butternut. NO PARTNER? NO WORRIES! WE WILL ASSIGN A PARTNER FOR YOU! Checks and registration form must be received by July 27\, 2017. Forms are available at Butternut or by contacting Karen or Jane. MAKE CHECKS PAYABLE TO: BCLGA AMOUNT $45.00 PER GOLFER. Mail to Karen Mussoline 179 Scout Trace Blairsville\, GA 30512 or leave at the Pro Shop desk. Deadline to enter is July 27\, 2017. Contact Karen Mussoline @ (352) 638-3649 (msmoose2@gmail.com) or Jane Childers @ (706) 838-5599 for questions or additional information. The "Lads & Lassies" will be battling for bragging rights\, but the real winners are children from Union & Towns Counties whose lives have been changed by the CASA organization. Enotah CASA (Court Appointed Special Advocate) plays a vital role in the lives of the abused and neglected children in our community and is the local affiliate of Georgia and National CASA. The effectiveness and quality of our advocacy has been recognized locally\, statewide and nationally. We gratefully appreciate your support to help us continue to advocate for our community's neglected and abused children by donating proceeds of your golf tournament which will be used to recruit\, screen\, train and supervise CASA volunteers and meet the needs of these deprived children. All proceeds will be donated to ENOTAH CASA after golf & lunch costs. In 2016 thanks to the wonderful participation of local golfers\, the Battle of the Sexes donated $500 to a local charity. Let's make it bigger and better in 2017!
X-ALT-DESC;FMTTYPE=text/html:The 2nd annual Battle of the Sexes golf tournament\, organized and hosted by the Butternut Creek Ladies Golf Association\, will be held Thursday\, August 3\, 2017 at Butternut Creek Golf Course. Registration and breakfast are from 8:00 a.m. to 8:45 a.m. Shotgun start at 9:00 a.m. SHARP!! Cost is $45 per golfer and includes golf\, breakfast and lunch. The format is Net Better Ball of your twosome and works this way: Two players\, either two Lads or two Lassies\, on the team each play their own golf ball throughout the round. On each hole\, the two team members compare scores\, and the lower of their two net scores (the better ball counts as the team&#39\;s score.) While you may be playing with your spouse in the foursome\, scoring of the Battle will consist of taking the net better scores of all Lassie pairings\, against the net better scores of all Lads pairings. Lads or Lassies will be announced as the winner during lunch. The top three winning teams from both the Lads and Lassies will each receive a free round of golf at Butternut. NO PARTNER? NO WORRIES! WE WILL ASSIGN A PARTNER FOR YOU! Checks and registration form must be received by July 27\, 2017. Forms are available at Butternut or by contacting Karen or Jane. MAKE CHECKS PAYABLE TO: BCLGA AMOUNT $45.00 PER GOLFER. Mail to Karen Mussoline 179 Scout Trace Blairsville\, GA 30512 or leave at the Pro Shop desk. Deadline to enter is July 27\, 2017. Contact Karen Mussoline @ (352) 638-3649 (msmoose2@gmail.com) or Jane Childers @ (706) 838-5599 for questions or additional information. The &ldquo\;Lads &amp\; Lassies&rdquo\; will be battling for bragging rights\, but the real winners are children from Union &amp\; Towns Counties whose lives have been changed by the CASA organization. Enotah CASA (Court Appointed Special Advocate) plays a vital role in the lives of the abused and neglected children in our community and is the local affiliate of Georgia and National CASA. The effectiveness and quality of our advocacy has been recognized locally\, statewide and nationally. We gratefully appreciate your support to help us continue to advocate for our community&rsquo\;s neglected and abused children by donating proceeds of your golf tournament which will be used to recruit\, screen\, train and supervise CASA volunteers and meet the needs of these deprived children. All proceeds will be donated to ENOTAH CASA after golf &amp\; lunch costs. In 2016 thanks to the wonderful participation of local golfers\, the Battle of the Sexes donated $500 to a local charity. Let&rsquo\;s make it bigger and better in 2017!
LOCATION:Butternut Creek Golf Course
UID:e.256.75336
SEQUENCE:3
DTSTAMP:20260419T195736Z
URL:https://members.visitblairsvillega.com/events/details/charity-golf-event-battle-of-the-sexes-75336
END:VEVENT

END:VCALENDAR
