BEGIN:VCALENDAR
VERSION:2.0
PRODID:-//ChamberMaster//Event Calendar 2.0//EN
METHOD:PUBLISH
X-PUBLISHED-TTL:P3D
REFRESH-INTERVAL:P3D
CALSCALE:GREGORIAN
BEGIN:VEVENT
DTSTART:20160523T120000Z
DTEND:20160523T180000Z
X-MICROSOFT-CDO-ALLDAYEVENT:FALSE
SUMMARY:CHARITY GOLF TOURNAMENT
DESCRIPTION:Healing Hands Community Clinic\, a non-profit 501C3 charitable healthcare facility for the uninsured\, is hosting its inaugural Golf Tournament.
X-ALT-DESC;FMTTYPE=text/html:Healing Hands Community Clinic\, a non-profit 501C3 charitable healthcare facility for the uninsured\, is hosting its inaugural Golf Tournament.
LOCATION:Butternut Creek Golf Course\, 129 Union County Rec. Road\, Blairsville\, GA
UID:e.256.50558
SEQUENCE:3
DTSTAMP:20260420T222910Z
URL:https://members.visitblairsvillega.com/events/details/charity-golf-tournament-05-23-2016-50558
END:VEVENT

END:VCALENDAR
