BEGIN:VCALENDAR
VERSION:2.0
PRODID:-//ChamberMaster//Event Calendar 2.0//EN
METHOD:PUBLISH
X-PUBLISHED-TTL:P3D
REFRESH-INTERVAL:P3D
CALSCALE:GREGORIAN
BEGIN:VEVENT
DTSTART:20161001T233000Z
DTEND:20161002T013000Z
X-MICROSOFT-CDO-ALLDAYEVENT:FALSE
SUMMARY:Charley Pride
DESCRIPTION:Becoming a trailblazing Country Music superstar was an improbable destiny for Charley Pride\, especially considering his humble beginnings as a sharecropper's son on a cotton farm in Sledge\, Mississippi. Growing up\, Charley was exposed primarily to Blues\, Gospel and Country music. His father inadvertently fostered Charley's love of Country music by tuning the family's Philco radio to Nashville's WSM-AM in order to catch Grand Ole Opry broadcasts. At 14 years of age\, Charley purchased his first guitar: a Silvertone from a Sears Roebuck catalogue and taught himself how to play it by listening to the songs that he heard on that radio. With boldness\, perseverance and undeniable musical talent\, Charlie Pride has managed to parlay a series of fortuitous encounters with Nashville insiders into an amazing legacy of hit singles and tens of millions in record sales. In addition to performing and recording new music\, he enjoys playing golf and spending time with his family.
X-ALT-DESC;FMTTYPE=text/html:Becoming a trailblazing Country Music superstar was an improbable destiny for Charley Pride\, especially considering his humble beginnings as a sharecropper&#39\;s son on a cotton farm in Sledge\, Mississippi. Growing up\, Charley was exposed primarily to Blues\, Gospel and Country music. His father inadvertently fostered Charley&#39\;s love of Country music by tuning the family&#39\;s Philco radio to Nashville&#39\;s WSM-AM in order to catch Grand Ole Opry broadcasts. At 14 years of age\, Charley purchased his first guitar: a Silvertone from a Sears Roebuck catalogue and taught himself how to play it by listening to the songs that he heard on that radio. With boldness\, perseverance and undeniable musical talent\, Charlie Pride has managed to parlay a series of fortuitous encounters with Nashville insiders into an amazing legacy of hit singles and tens of millions in record sales. In addition to performing and recording new music\, he enjoys playing golf and spending time with his family.
LOCATION:Smoky Mountain Center for the Performing Arts 1028 Georgia Road Franklin\, NC 28734
UID:e.256.49407
SEQUENCE:3
DTSTAMP:20260420T130644Z
URL:https://members.visitblairsvillega.com/events/details/charley-pride-10-01-2016-49407
END:VEVENT

END:VCALENDAR
