BEGIN:VCALENDAR
VERSION:2.0
PRODID:-//ChamberMaster//Event Calendar 2.0//EN
METHOD:PUBLISH
X-PUBLISHED-TTL:P3D
REFRESH-INTERVAL:P3D
CALSCALE:GREGORIAN
BEGIN:VEVENT
DTSTART:20150808T233000Z
DTEND:20150809T020000Z
X-MICROSOFT-CDO-ALLDAYEVENT:FALSE
SUMMARY:Charlie Daniels Band
DESCRIPTION:The legendary fiddler\, guitarist\, and singer Charlie Daniels has been performing for half a century. The Wilmington\, NC native has played and recorded with the likes of Johnny Cash\, Bob Dylan\, The Marshall Tucker Band\, Hank Williams\, Jr.\, Leonard Cohen\, Pete Seeger\, and Ringo Starr. His song\, "The Devil Went Down to Georgia\," won Daniels a Grammy for the Best Country vocal performance in 1979\, and for several generations of Southerners\, his popular hits\, "Long Haired Country Boy\," and "The South's Gonna Do It Again\," are anthems to regional pride.
X-ALT-DESC;FMTTYPE=text/html:The legendary fiddler\, guitarist\, and singer Charlie Daniels has been performing for half a century. The Wilmington\, NC native has played and recorded with the likes of Johnny Cash\, Bob Dylan\, The Marshall Tucker Band\, Hank Williams\, Jr.\, Leonard Cohen\, Pete Seeger\, and Ringo Starr. His song\, &quot\;The Devil Went Down to Georgia\,&quot\; won Daniels a Grammy for the Best Country vocal performance in 1979\, and for several generations of Southerners\, his popular hits\, &quot\;Long Haired Country Boy\,&quot\; and &quot\;The South&#39\;s Gonna Do It Again\,&quot\; are anthems to regional pride.
LOCATION:Smoky Mountain Center for the Performing Arts 1028 Georgia Road Franklin\, NC 28734
UID:e.256.41281
SEQUENCE:3
DTSTAMP:20260423T134033Z
URL:https://members.visitblairsvillega.com/events/details/charlie-daniels-band-08-08-2015-41281
END:VEVENT

END:VCALENDAR
