BEGIN:VCALENDAR
VERSION:2.0
PRODID:-//ChamberMaster//Event Calendar 2.0//EN
METHOD:PUBLISH
X-PUBLISHED-TTL:P3D
REFRESH-INTERVAL:P3D
CALSCALE:GREGORIAN
BEGIN:VEVENT
DTSTART:20170317T230000Z
DTEND:20170318T010000Z
X-MICROSOFT-CDO-ALLDAYEVENT:FALSE
SUMMARY:Charlotte's Web - Stage Play
DESCRIPTION:E.B. White's beloved children's tale is brought to life on stage in this faithful adaptation\, which finds the young farm pig\, Wilbur\, attempting to avoid a dire fate. Of all the barnyard creatures\, Wilbur's most treasured friend is Charlotte\, a thoughtful spider who devises an intriguing plan to keep the gentle little swine out of the slaughterhouse. Although Charlotte's efforts\, which involve words written in her delicate web\, seem far-fetched\, they may just work. A wonderful story of friendship\, sacrifice and growing up for the entire family. A one-act production approximately one hour in length. Presented by the Overlook Theatre Company
X-ALT-DESC;FMTTYPE=text/html:E.B. White&#39\;s beloved children&#39\;s tale is brought to life on stage in this faithful adaptation\, which finds the young farm pig\, Wilbur\, attempting to avoid a dire fate. Of all the barnyard creatures\, Wilbur&#39\;s most treasured friend is Charlotte\, a thoughtful spider who devises an intriguing plan to keep the gentle little swine out of the slaughterhouse. Although Charlotte&#39\;s efforts\, which involve words written in her delicate web\, seem far-fetched\, they may just work. A wonderful story of friendship\, sacrifice and growing up for the entire family. A one-act production approximately one hour in length. Presented by the Overlook Theatre Company
LOCATION:Smoky Mountain Center for the Performing Arts 1028 Georgia Road Franklin\, NC 28734
UID:e.256.62174
SEQUENCE:3
DTSTAMP:20260420T055519Z
URL:https://members.visitblairsvillega.com/events/details/charlotte-s-web-stage-play-62174
END:VEVENT

END:VCALENDAR
