BEGIN:VCALENDAR
VERSION:2.0
PRODID:-//ChamberMaster//Event Calendar 2.0//EN
METHOD:PUBLISH
X-PUBLISHED-TTL:P3D
REFRESH-INTERVAL:P3D
CALSCALE:GREGORIAN
BEGIN:VEVENT
DTSTART;VALUE=DATE:20140402
DTEND;VALUE=DATE:20140403
TRANSP:TRANSPARENT
X-MICROSOFT-CDO-ALLDAYEVENT:TRUE
SUMMARY:Cherokee Cellars Now Open
DESCRIPTION:Cherokee Cellars Winery and Fine Art Gallery will reopen for the season on April 2nd Hours will be Wednesday thru Saturday\, 11:30 to 5:30.   The tasting room will have a whole new look.  In addition to your favorite wines from last year there will be several new wines released over the coming weeks and months.  \n\nSend your email address to Cherokeecellars@frontier.com or visit us on Face book at http://www.facebook.com/pages/Cherokee-Cellars/338721692814767  to get notification of upcoming release parties.\n\n \n\nThe Gallery at Cherokee Cellars will also have all new artwork and the gift shop will be stocked with a wide selection of wine themed gifts for giving or just for you. Contact the gallery at 828-835-9565.
X-ALT-DESC;FMTTYPE=text/html:<span style="font-size: 14px\;"><span style="font-family: arial\;"><span style="color: black\;">Cherokee Cellars Winery and Fine Art Gallery will reopen for the season on April 2<sup>nd</sup> Hours will be Wednesday thru Saturday\, 11:30 to 5:30.&nbsp\;&nbsp\; The tasting room will have a whole new look.&nbsp\; In addition to your favorite wines from last year there will be several new wines released over the coming weeks and months. &nbsp\;</span><br />\n<span style="color: black\;">Send your email address to <a href="mailto:Cherokeecellars@frontier.com"><span style="color: rgb(0\, 0\, 255)\;">Cherokeecellars@frontier.com</span></a> or visit us on Face book at <a href="http://www.facebook.com/pages/Cherokee-Cellars/338721692814767"><span style="color: rgb(0\, 0\, 255)\;">http://www.facebook.com/pages/Cherokee-Cellars/338721692814767</span></a>&nbsp\; to get notification of upcoming release parties.</span><br />\n&nbsp\;<br />\n<span style="color: black\;">The Gallery at Cherokee Cellars will also have all new artwork and the gift shop will be stocked with a wide selection of wine themed gifts for giving or just for you. Contact the gallery at 828-835-9565.</span></span></span><br />\n&nbsp\;<br />\n&nbsp\;
LOCATION:
UID:e.256.23443
SEQUENCE:3
DTSTAMP:20260424T133254Z
URL:https://members.visitblairsvillega.com/events/details/cherokee-cellars-now-open-04-02-2014-23443
END:VEVENT

END:VCALENDAR
