BEGIN:VCALENDAR
VERSION:2.0
PRODID:-//ChamberMaster//Event Calendar 2.0//EN
METHOD:PUBLISH
X-PUBLISHED-TTL:P3D
REFRESH-INTERVAL:P3D
CALSCALE:GREGORIAN
BEGIN:VEVENT
DTSTART:20151029T210000Z
DTEND:20151030T000000Z
X-MICROSOFT-CDO-ALLDAYEVENT:FALSE
SUMMARY:Chick-fil-A Blairsville's 1st Annual Trunk or Treat Event
DESCRIPTION:5:00pm-6:30pm Fun\, food\, games\, and music.\n\n6:30pm-6:45pm Trunk or Treat-Kids go Trick or Treating from participating Trucks decorated for Halloween & passing out candy to the children!\n\n6:45pm--7:15pm Cake Walk-Bring a cake to be auctioned off and the highest bidder takes home dessert! All proceeds of this fundraiser will be going to a local charity!\n\n7:15pm-7:45pm Pie in the Face- Another fundraiser for a local charity...$1 to smash a pie in Blairsville Owner/Operator\, Daniel Liberatore's face.\n\nALL CHARITABLE PROCEEDS COLLECTED WILL BE MATCHED BY CHICK-FIL-A AND GO BACK INTO OUR COMMUNITY TO A LOCAL CHARITY!
X-ALT-DESC;FMTTYPE=text/html:5:00pm-6:30pm Fun\, food\, games\, and music.<br />\n6:30pm-6:45pm Trunk or Treat-Kids go Trick or Treating from participating Trucks decorated for Halloween &amp\; passing out candy to the children!<br />\n6:45pm--7:15pm Cake Walk-Bring a cake to be auctioned off and the highest bidder takes home dessert! All proceeds of this fundraiser will be going to a local charity!<br />\n7:15pm-7:45pm Pie in the Face- Another fundraiser for a local charity...$1 to smash a pie in Blairsville Owner/Operator\, Daniel Liberatore&#39\;s face.<br />\nALL CHARITABLE PROCEEDS COLLECTED WILL BE MATCHED BY CHICK-FIL-A AND GO BACK INTO OUR COMMUNITY TO A LOCAL CHARITY!
LOCATION:Chick-fil-A 152 Hwy 515 E Blairsville
UID:e.256.44338
SEQUENCE:3
DTSTAMP:20260423T104309Z
URL:https://members.visitblairsvillega.com/events/details/chick-fil-a-blairsville-s-1st-annual-trunk-or-treat-event-10-29-2015-44338
END:VEVENT

END:VCALENDAR
