BEGIN:VCALENDAR
VERSION:2.0
PRODID:-//ChamberMaster//Event Calendar 2.0//EN
METHOD:PUBLISH
X-PUBLISHED-TTL:P3D
REFRESH-INTERVAL:P3D
CALSCALE:GREGORIAN
BEGIN:VEVENT
DTSTART:20161022T180000Z
DTEND:20161022T220000Z
X-MICROSOFT-CDO-ALLDAYEVENT:FALSE
SUMMARY:Chick-Fil-A Fall Festival
DESCRIPTION:Come out to Chick-Fil-A for a fun fall festival!
X-ALT-DESC;FMTTYPE=text/html:Come out to&nbsp\;Chick-Fil-A&nbsp\;for a fun fall festival!
LOCATION:Chick-fil-A Blairsville
UID:e.256.58131
SEQUENCE:3
DTSTAMP:20260420T144249Z
URL:https://members.visitblairsvillega.com/events/details/chick-fil-a-fall-festival-58131
END:VEVENT

END:VCALENDAR
