BEGIN:VCALENDAR
VERSION:2.0
PRODID:-//ChamberMaster//Event Calendar 2.0//EN
METHOD:PUBLISH
X-PUBLISHED-TTL:P3D
REFRESH-INTERVAL:P3D
CALSCALE:GREGORIAN
BEGIN:VEVENT
DTSTART:20160303T220000Z
DTEND:20160304T010000Z
X-MICROSOFT-CDO-ALLDAYEVENT:FALSE
SUMMARY:Chick Fil A SAFE Spirit Night!
DESCRIPTION:Join us for a fun night at Chick Fil A in Blairsville! Activities for kids will be available\, so Eat More Chicken and have a great time with the family! Make sure to tell them you are there to support S.A.F.E. and a portion of the proceeds will be donated.\n\nSigma Beta Sigma from Young Harris College will be helping S.A.F.E. with fun activities for kids of all ages! We appreciate their support!
X-ALT-DESC;FMTTYPE=text/html:<span style="color:rgb(78\, 86\, 101)\; font-family:helvetica\,arial\,sans-serif\; font-size:14px">Join us for a fun night at Chick Fil A in Blairsville! Activities for kids will be available\, so Eat More Chicken and have a great time with the family! Make sure to tell them you are there to support S.A.F.E. and a portion of the proceeds will be donated.</span><br />\n<span style="color:rgb(20\, 24\, 35)\; font-family:helvetica\,arial\,sans-serif\; font-size:14px">Sigma Beta Sigma from&nbsp\;</span><a class="profileLink" href="https://www.facebook.com/YoungHarrisCollege/" style="color: rgb(59\, 89\, 152)\; cursor: pointer\; text-decoration: none\; font-family: helvetica\, arial\, sans-serif\; font-size: 14px\; line-height: 19.32px\;">Young Harris College</a><span style="color:rgb(20\, 24\, 35)\; font-family:helvetica\,arial\,sans-serif\; font-size:14px">&nbsp\;will be helping S.A.F.E. with fun activities for kids of all ages! We appreciate their support!</span>
LOCATION:Chick Fil A 152 Hwy 515E Blairsville\, GA
UID:e.256.49835
SEQUENCE:3
DTSTAMP:20260421T040253Z
URL:https://members.visitblairsvillega.com/events/details/chick-fil-a-safe-spirit-night-03-03-2016-49835
END:VEVENT

END:VCALENDAR
