BEGIN:VCALENDAR
VERSION:2.0
PRODID:-//ChamberMaster//Event Calendar 2.0//EN
METHOD:PUBLISH
X-PUBLISHED-TTL:P3D
REFRESH-INTERVAL:P3D
CALSCALE:GREGORIAN
BEGIN:VEVENT
DTSTART:20140829T104500Z
DTEND:20140829T114500Z
X-MICROSOFT-CDO-ALLDAYEVENT:FALSE
SUMMARY:Chick-fil-A UCHS Fundraiser
DESCRIPTION:Union County High School's Family Career & Community Leaders of America in conjunction with The Spanish National Honor Society invite you to enjoy a fresh Chick-fil-A biscuit and sweet tea.\n\nIf your business would like to bulk pre-order(over 10 chicken biscuits)\, please contact Brittney Stinnett from UCHS before 12:00 p.m. on Wednesday\, August 27th.  at bstinnett@ucschools.org or 770-342-8055.
X-ALT-DESC;FMTTYPE=text/html:<span style="font-size:12px\;"><span style="font-family: comic sans ms\;">Union County High School&rsquo\;s Family Career &amp\; Community Leaders of America in conjunction with The Spanish National Honor Society invite you to enjoy a fresh Chick-fil-A biscuit and sweet tea</span></span>.<br />\n<span style="font-size:12px\;"><span style="font-family: comic sans ms\;">If your business would like to bulk pre-order(over 10 chicken biscuits)\, please contact Brittney Stinnett from UCHS before 12:00 p.m. on Wednesday\, August 27th.&nbsp\; at <a href="mailto:bstinnett@ucschools.org">bstinnett@ucschools.org</a> or 770-342-8055.</span></span><br />\n<br />\n&nbsp\;
LOCATION:Under the large maple tree at Community & Southern Bank 271 Hwy 515 Blairsville\, GA
UID:e.256.26206
SEQUENCE:3
DTSTAMP:20260424T073658Z
URL:https://members.visitblairsvillega.com/events/details/chick-fil-a-uchs-fundraiser-08-29-2014-26206
END:VEVENT

END:VCALENDAR
