BEGIN:VCALENDAR
VERSION:2.0
PRODID:-//ChamberMaster//Event Calendar 2.0//EN
METHOD:PUBLISH
X-PUBLISHED-TTL:P3D
REFRESH-INTERVAL:P3D
CALSCALE:GREGORIAN
BEGIN:VEVENT
DTSTART:20140304T220000Z
DTEND:20140305T020000Z
X-MICROSOFT-CDO-ALLDAYEVENT:FALSE
SUMMARY:Childbirth Class
DESCRIPTION:REGISTRATION REQUIRED FOR THIS CLASS (see below for contact information to register) Educating parents on what to expect during childbirth - best for first time expectant parents. Taught by Labor and Delivery nurses at Union General Hospital.
X-ALT-DESC;FMTTYPE=text/html:REGISTRATION REQUIRED FOR THIS CLASS (see below for contact information to register) Educating parents on what to expect during childbirth - best for first time expectant parents. Taught by Labor and Delivery nurses at Union General Hospital.
LOCATION:Union General Hospital\, 2nd Floor Education Classroom
UID:e.256.23082
SEQUENCE:3
DTSTAMP:20260424T152723Z
URL:https://members.visitblairsvillega.com/events/details/childbirth-class-03-04-2014-23082
END:VEVENT

END:VCALENDAR
