BEGIN:VCALENDAR
VERSION:2.0
PRODID:-//ChamberMaster//Event Calendar 2.0//EN
METHOD:PUBLISH
X-PUBLISHED-TTL:P3D
REFRESH-INTERVAL:P3D
CALSCALE:GREGORIAN
BEGIN:VEVENT
DTSTART:20140422T210000Z
DTEND:20140423T010000Z
X-MICROSOFT-CDO-ALLDAYEVENT:FALSE
SUMMARY:Childbirth Class
DESCRIPTION:REGISTRATION REQUIRED FOR THIS CLASS (see contact information to register) Educating parents on what to expect during childbirth - best for first time expectant parents. Taught by Labor and Delivery nurses at Union General Hospital.
X-ALT-DESC;FMTTYPE=text/html:REGISTRATION REQUIRED FOR THIS CLASS (see contact information to register) Educating parents on what to expect during childbirth - best for first time expectant parents. Taught by Labor and Delivery nurses at Union General Hospital.
LOCATION:Union General Hospital\, 2nd Floor Classroom
UID:e.256.23328
SEQUENCE:3
DTSTAMP:20260424T133133Z
URL:https://members.visitblairsvillega.com/events/details/childbirth-class-04-22-2014-23328
END:VEVENT

END:VCALENDAR
