BEGIN:VCALENDAR
VERSION:2.0
PRODID:-//ChamberMaster//Event Calendar 2.0//EN
METHOD:PUBLISH
X-PUBLISHED-TTL:P3D
REFRESH-INTERVAL:P3D
CALSCALE:GREGORIAN
BEGIN:VEVENT
DTSTART:20140805T210000Z
DTEND:20140806T010000Z
X-MICROSOFT-CDO-ALLDAYEVENT:FALSE
SUMMARY:Childbirth Class
DESCRIPTION:Information and instruction on what to expect during pregancy and childbirth. Best for new parents.
X-ALT-DESC;FMTTYPE=text/html:Information and instruction on what to expect during pregancy and childbirth. Best for new parents.
LOCATION:UGH 2nd Classroom
UID:e.256.25590
SEQUENCE:3
DTSTAMP:20260424T091512Z
URL:https://members.visitblairsvillega.com/events/details/childbirth-class-08-05-2014-25590
END:VEVENT

END:VCALENDAR
