BEGIN:VCALENDAR
VERSION:2.0
PRODID:-//ChamberMaster//Event Calendar 2.0//EN
METHOD:PUBLISH
X-PUBLISHED-TTL:P3D
REFRESH-INTERVAL:P3D
CALSCALE:GREGORIAN
BEGIN:VEVENT
DTSTART:20141021T210000Z
DTEND:20141022T010000Z
X-MICROSOFT-CDO-ALLDAYEVENT:FALSE
SUMMARY:Childbirth Class
DESCRIPTION:This is a consecutive\, 4-class series geared toward first-time parents REGISTRATION IS REQUIRED!
X-ALT-DESC;FMTTYPE=text/html:This is a consecutive\, 4-class series geared toward first-time parents REGISTRATION IS REQUIRED!
LOCATION:UGH 2nd Floor Classroom
UID:e.256.25998
SEQUENCE:3
DTSTAMP:20260424T044943Z
URL:https://members.visitblairsvillega.com/events/details/childbirth-class-10-21-2014-25998
END:VEVENT

END:VCALENDAR
