BEGIN:VCALENDAR
VERSION:2.0
PRODID:-//ChamberMaster//Event Calendar 2.0//EN
METHOD:PUBLISH
X-PUBLISHED-TTL:P3D
REFRESH-INTERVAL:P3D
CALSCALE:GREGORIAN
BEGIN:VEVENT
DTSTART:20150327T220000Z
DTEND:20150328T000000Z
X-MICROSOFT-CDO-ALLDAYEVENT:FALSE
SUMMARY:Chili Cook-off
DESCRIPTION:The Union County High School band will be hosting a chili cook-off to raise money for our upcoming trip to New York. All welcome to enter the competition or just come and enjoy a tasty night! Prizes will be awarded to the top competitors.
X-ALT-DESC;FMTTYPE=text/html:The Union County High School band will be hosting a chili cook-off to raise money for our upcoming trip to New York. All welcome to enter the competition or just come and enjoy a tasty night! Prizes will be awarded to the top competitors.
LOCATION:Haralson Memorial Civic Center
UID:e.256.37722
SEQUENCE:3
DTSTAMP:20260423T211837Z
URL:https://members.visitblairsvillega.com/events/details/chili-cook-off-03-27-2015-37722
END:VEVENT

END:VCALENDAR
